{"text_format":"1","workbook":"xlsx","n_sheets":10,"sheets":["Parâmetros","Projeções","RCL","Pessoal","Câmara","Educação","Saúde","Ass.Social","RPPS","Consolidação"],"not_rendered":{"charts":0,"images":2,"macros":1,"external_links":0,"defined_names":5,"comments":0,"pivot_tables":0},"unopened":[],"bounds":{"document_bytes":16777216,"sheet_cells":100000,"rows_first":2000,"rows_last":500,"rows_between":2000,"halvings":0,"cell_chars":16384,"cell_head_chars":4096},"cells_cut":0,"cells_raw":0,"read":"whole","date_system":"1900"}

{"sheet":"Parâmetros","index":0,"n_rows":19,"n_cols":6,"rows_kept":19,"cut":false,"hidden":false,"merged":[[20,0,22,5],[6,0,6,8],[7,0,7,8],[8,0,8,8]]}
[]
[]
[]
[]
[]
[]
["Município de :  "]
["PLANO PLURIANUAL 2026 - 2029"]
["Parâmentos Utilizados nas Estimativas das Receitas e Despesas"]
["Indicador",2025,{"$f":"B10+1","v":2026},{"$f":"C10+1","v":2027},{"$f":"D10+1","v":2028},{"$f":"E10+1","v":2029}]
["INFLAÇÃO MÉDIA ANUAL   (IPCA)",5.0599999999999999E-2,4.4999999999999998E-2,0.04,3.8300000000000001E-2,3.7999999999999999E-2]
["VARIAÇÃODO PIB ",2.2100000000000002E-2,1.8700000000000001E-2,0.02,0.02,0.02]
["CRESCIMENTO VEGETATIVO DA FOLHA SALARIAL",1.52E-2,1.52E-2,1.52E-2,1.52E-2,1.52E-2]
["CRESCIMENTO VEGETATIVO DE OUTRAS DESP DE CUSTEIO",0,0,0,0,0]
["EXPECTATIVA DE CRESCIMENTO MÉDIO DA ARRECADAÇÃO TRIBUTÁRIA PRÓPRIA",6.3200000000000006E-2,5.8000000000000003E-2,5.8200000000000002E-2,5.8000000000000003E-2,5.8999999999999997E-2]
["EXPECTATIVA DE CRESCIMENTO MÉDIO DAS TRANSFERÊNCIAS DO UNÃO",0.03,0.03,0.03,0.03,0.03]
["EXPECTATIVA DE CRESCIMENTO MÉDIO DAS TRANSFERÊNCIAS DO ESTADO",0.02,0.02,0.02,0.02,0.02]
["PERCENTUAL DE AUMENTO SALARIAL - EXECUTVO (ACIMA DO IPCA)",2.41E-2,0.02,0.03,3.2000000000000001E-2,3.2000000000000001E-2]
["PERCENTUAL DE AUMENTO SALARIAL - LEGISLATIVO (ACIMA DO IPCA)",0,0,0,0,0]

{"sheet":"Projeções","index":1,"n_rows":223,"n_cols":11,"rows_kept":223,"cut":false,"hidden":false,"merged":[[0,0,0,8],[1,0,1,8],[2,0,2,8],[128,0,128,8],[127,0,127,8],[126,0,126,8]]}
[{"$f":"Parâmetros!A7","v":"Município de :  "}]
[{"$f":"Parâmetros!A8","v":"PLANO PLURIANUAL 2026 - 2029"}]
["Tabela 01 - Memória de Cálculo das Estimativas das Principais Receitas"]
[]
[null,null,null,null,null,null,null,null,"Valores em R$ 1,00"]
[null,"CONTAS","ARRECADADA","ARRECADADA","(RE) ESTIMADA","PROJETADO","PROJETADO","PROJETADO","PROJETADO"]
[null,"CONSOLIDADAS ANUAIS",2023,{"$f":"C7+1","v":2024},2025,2026,2027,2028,2029]
["1.0.0.0.00.0.0.00.00.00","Receitas Correntes",{"$f":"C9+C10+C11+C12+C19+C34+C35+C36+C37+C38+C75","v":165001376.88999999},178541552.68000001,180633404.20999998,181660204.62313262,187299488.8268362,191303013.09178934,{"$f":"I9+I10+I11+I12+I19+I34+I35+I36+L37+I38+I75","v":180664493.64996257}]
["1.1.1.0.00.0.0.00.00.00","Impostos",25972856.52,28922693.32,{"$f":"28201000+2000000","v":30201000},{"$f":"((C9+D9+E9)/3)*(1+Parâmetros!C11)*(1+Parâmetros!C15)","v":31361198.822867464},{"$f":"((D9+E9+F9)/3)*(1+Parâmetros!D11)*(1+Parâmetros!D15)","v":33193719.126735218},{"$f":"((E9+F9+G9)/3)*(1+Parâmetros!E11)*(1+Parâmetros!E15)","v":34697134.548094228},{"$f":"((F9+G9+H9)/3)*(1+Parâmetros!F11)*(1+Parâmetros!F15)","v":36367341.563891113}]
["1.1.2.0.00.0.0.00.00.00","Taxas",3593578.02,4128288.84,3800000,{"$f":"((C10+D10+E10)/3)*(1+Parâmetros!C11)*(1+Parâmetros!C15)","v":4246230.4063615333},{"$f":"((D10+E10+F10)/3)*(1+Parâmetros!D11)*(1+Parâmetros!D15)","v":4466133.1057199221},{"$f":"((E10+F10+G10)/3)*(1+Parâmetros!E11)*(1+Parâmetros!E15)","v":4581699.6942002121},{"$f":"((F10+G10+H10)/3)*(1+Parâmetros!F11)*(1+Parâmetros!F15)","v":4871130.8756664917}]
["1.1.3.0.00.0.0.00.00.00","Contribuição de Melhoria",0,0,0,{"$f":"((C11+D11+E11)/3)*(1+Parâmetros!C11)*(1+Parâmetros!C15)","v":0},{"$f":"((D11+E11+F11)/3)*(1+Parâmetros!D11)*(1+Parâmetros!D15)","v":0},{"$f":"((E11+F11+G11)/3)*(1+Parâmetros!E11)*(1+Parâmetros!E15)","v":0},{"$f":"((F11+G11+H11)/3)*(1+Parâmetros!F11)*(1+Parâmetros!F15)","v":0}]
["1.2.0.0.00.0.0.00.00.00","Contribuições",{"$f":"C13+C17+C18","v":4876745.46},4047590.17,5330300,5141655.054336952,5263249.1881144186,5705652.1381179616,5840068.5424590781]
["1.2.1.0.00.0.0.00.00.00","Contribuições Sociais",{"$f":"C14+C15+C16","v":4876745.46},4047590.17,5330300,5141655.054336952,5263249.1881144186,5705652.1381179616,5840068.5424590781]
["1.2.1.5.XX.0.0.00.00.00","Contribuição para o Regime Próprio de Previdência Social - RPPS (dos servidores)",4876745.46,4047590.17,5330300,{"$f":"((C14+D14+E14)/3)*(1+Parâmetros!C11)*(1+Parâmetros!C13)*(1+Parâmetros!C18)","v":5141655.054336952},{"$f":"((D14+E14+F14)/3)*(1+Parâmetros!D11)*(1+Parâmetros!D13)*(1+Parâmetros!D18)","v":5263249.1881144186},{"$f":"((E14+F14+G14)/3)*(1+Parâmetros!E11)*(1+Parâmetros!E13)*(1+Parâmetros!E18)","v":5705652.1381179616},{"$f":"((F14+G14+H14)/3)*(1+Parâmetros!F11)*(1+Parâmetros!F13)*(1+Parâmetros!F18)","v":5840068.5424590781}]
["1.2.1.5.YY.0.0.00.00.00","Contribuição para os Fundos de Assistência Médica",0,0,0,{"$f":"((C15+D15+E15)/3)*(1+Parâmetros!C11)*(1+Parâmetros!C13)*(1+Parâmetros!C18)","v":0},{"$f":"((D15+E15+F15)/3)*(1+Parâmetros!D11)*(1+Parâmetros!D13)*(1+Parâmetros!D18)","v":0},{"$f":"((E15+F15+G15)/3)*(1+Parâmetros!E11)*(1+Parâmetros!E13)*(1+Parâmetros!E18)","v":0},{"$f":"((F15+G15+H15)/3)*(1+Parâmetros!F11)*(1+Parâmetros!F13)*(1+Parâmetros!F18)","v":0}]
["1.2.1.0.99.0.0.00.00.00","Outras Contribuições Sociais",0,0,0,{"$f":"((C16+D16+E16)/3)*(1+Parâmetros!C11)","v":0},{"$f":"((D16+E16+F16)/3)*(1+Parâmetros!D11)","v":0},{"$f":"((E16+F16+G16)/3)*(1+Parâmetros!E11)","v":0},{"$f":"((F16+G16+H16)/3)*(1+Parâmetros!F11)","v":0}]
["1.2.2.0.00.0.0.00.00.00","Contribuições Econômicas",0,0,0,{"$f":"((C17+D17+E17)/3)*(1+Parâmetros!C11)","v":0},{"$f":"((D17+E17+F17)/3)*(1+Parâmetros!D11)","v":0},{"$f":"((E17+F17+G17)/3)*(1+Parâmetros!E11)","v":0},{"$f":"((F17+G17+H17)/3)*(1+Parâmetros!F11)","v":0}]
["1.2.4.0.00.0.0.00.00.00","Contribuição para o Custeio do Serviço de Iluminação Pública",0,0,0,{"$f":"((C18+D18+E18)/3)*(1+Parâmetros!C11)*(1+Parâmetros!C12)","v":0},{"$f":"((D18+E18+F18)/3)*(1+Parâmetros!D11)*(1+Parâmetros!D12)","v":0},{"$f":"((E18+F18+G18)/3)*(1+Parâmetros!E11)*(1+Parâmetros!E12)","v":0},{"$f":"((F18+G18+H18)/3)*(1+Parâmetros!F11)*(1+Parâmetros!F12)","v":0}]
["1.3.0.0.00.0.0.00.00.00","Receita Patrimonial",{"$f":"C20+C21+C31+C32+C33","v":24897499.16},18036821.260000002,20939275.32,{"$f":"F20+F21+F31+F32+F33","v":22249302.516100001},21224805.01998134,22293471.806489747,{"$f":"I20+I21+I31+I32+I33","v":22755582.452529594}]
["1.3.1.0.00.0.0.00.00.00","Exploração do Patrimônio Imobiliário ",522953.56,307041.89,211000,{"$f":"((C20+D20+E20)/3)*(1+Parâmetros!C11)","v":362613.41508333333},{"$f":"((D20+E20+F20)/3)*(1+Parâmetros!D11)","v":305293.8390955556},{"$f":"((E20+F20+G20)/3)*(1+Parâmetros!E11)","v":304189.80067131348},{"$f":"((F20+G20+H20)/3)*(1+Parâmetros!F11)","v":336345.58097817004}]
["1.3.2.0.00.0.0.00.00.00","Valores Mobiliários",{"$f":"SUM(C22:C30)","v":22927323.91},17656969.100000001,20728275.32,21357211.301616665,20710717.983493783,21733766.413828723,{"$f":"SUM(I22:I30)","v":22075386.711832952}]
["1.3.2.1.01.0.X.AA.00.00","Remuneração de Depósitos de Recursos Vinculados da Educação (MDE, Fundeb e Demais Vinculações da Educação) ",378332.52,546045.78,{"$f":"250000+70000+69000+3000","v":392000},{"$f":"((C22+D22+E22)/3)*(1+Parâmetros!C11)","v":458538.44116666663},{"$f":"((D22+E22+F22)/3)*(1+Parâmetros!D11)","v":484149.1966711111},{"$f":"((E22+F22+G22)/3)*(1+Parâmetros!E11)","v":461935.39145565481},{"$f":"((F22+G22+H22)/3)*(1+Parâmetros!F11)","v":485999.56813552766}]
["1.3.2.1.01.0.X.BB.00.00","Remuneração de Depósitos de Recursos Vinculados da Saúde  (ASPS +  Fonte Federal e Estadual)",467821.92,803319.54,{"$f":"737000-69000-3000","v":665000},{"$f":"((C23+D23+E23)/3)*(1+Parâmetros!C11)","v":674422.6085666666},{"$f":"((D23+E23+F23)/3)*(1+Parâmetros!D11)","v":742817.27816977771},{"$f":"((E23+F23+G23)/3)*(1+Parâmetros!E11)","v":720663.22479948343},{"$f":"((F23+G23+H23)/3)*(1+Parâmetros!F11)","v":739714.47659143107}]
["1.3.2.1.01.0.X.CC.00.00","Remuneração de Depósitos de Recursos Vinculados da Assistência Social ( Rec. Próprios +  Fonte Federal e Estadual)",33578.980000000003,79123.34,14200,{"$f":"((C24+D24+E24)/3)*(1+Parâmetros!C11)","v":44204.308133333332},{"$f":"((D24+E24+F24)/3)*(1+Parâmetros!D11)","v":47676.251352888896},{"$f":"((E24+F24+G24)/3)*(1+Parâmetros!E11)","v":36714.481638181511},{"$f":"((F24+G24+H24)/3)*(1+Parâmetros!F11)","v":44493.884229043695}]
["1.3.2.1.01.0.X.DD.00.00","Remuneração de Depósitos de Outros Recursos Vinculados",697372.03,596925.11,93800,{"$f":"((C25+D25+E25)/3)*(1+Parâmetros!C11)","v":483520.50376666663},{"$f":"((D25+E25+F25)/3)*(1+Parâmetros!D11)","v":407071.81277244445},{"$f":"((E25+F25+G25)/3)*(1+Parâmetros!E11)","v":340698.18075418635},{"$f":"((F25+G25+H25)/3)*(1+Parâmetros!F11)","v":426026.51206348091}]
["1.3.2.1.01.0.X.02.00.00","Remuneração de Depósitos de Recursos Não Vinculados ",{"$f":"4450712.29-1010279.54","v":3440432.75},{"$f":"2728726.48","v":2728726.48},{"$f":"1586913.67+642561.65","v":2229475.3199999998},{"$f":"((C26+D26+E26)/3)*(1+Parâmetros!C11)","v":2925524.3682499998},{"$f":"((D26+E26+F26)/3)*(1+Parâmetros!D11)","v":2733025.0716600004},{"$f":"((E26+F26+G26)/3)*(1+Parâmetros!E11)","v":2730045.369404851},{"$f":"((F26+G26+H26)/3)*(1+Parâmetros!F11)","v":2902453.8040229385}]
["1.3.2.1.01.0.X.02.00.01","Receita Rendimentos Autarquia",1010279.54,1149333.5900000001,600000,{"$f":"((C27+D27+E27)/3)*(1+Parâmetros!C11)","v":961265.24028333323},{"$f":"((D27+E27+F27)/3)*(1+Parâmetros!D11)","v":939674.26116488897},{"$f":"((E27+F27+G27)/3)*(1+Parâmetros!E11)","v":865575.16145122983},{"$f":"((F27+G27+H27)/3)*(1+Parâmetros!F11)","v":957214.07336321054}]
["1.3.2.1.04.0.X.00.00","Remuneração dos Recursos do Regime Próprio de Previdência Social - RPPS",{"$f":"16899480.26","v":16899480.260000002},11731265.66,{"$f":"11733800+5000000","v":16733800},{"$f":"((C28+D28+E28)/3)*(1+Parâmetros!C11)","v":15801983.495466666},{"$f":"((D28+E28+F28)/3)*(1+Parâmetros!D11)","v":15345910.373895112},{"$f":"((E28+F28+G28)/3)*(1+Parâmetros!E11)","v":16571854.24818611},{"$f":"((F28+G28+H28)/3)*(1+Parâmetros!F11)","v":16511032.84867157}]
["1.3.2.1.00.5.0.00.00.00","Juros de Títulos de Renda",0,0,0,{"$f":"((C29+D29+E29)/3)*(1+Parâmetros!C11)","v":0},{"$f":"((D29+E29+F29)/3)*(1+Parâmetros!D11)","v":0},{"$f":"((E29+F29+G29)/3)*(1+Parâmetros!E11)","v":0},{"$f":"((F29+G29+H29)/3)*(1+Parâmetros!F11)","v":0}]
["1.3.2.9.00.0.0.00.00.00","Outros Valores Mobiliários",25.91,22229.599999999999,0,{"$f":"((C30+D30+E30)/3)*(1+Parâmetros!C11)","v":7752.3359833333325},{"$f":"((D30+E30+F30)/3)*(1+Parâmetros!D11)","v":10393.737807555555},{"$f":"((E30+F30+G30)/3)*(1+Parâmetros!E11)","v":6280.3561390266441},{"$f":"((F30+G30+H30)/3)*(1+Parâmetros!F11)","v":8451.5447557507741}]
["1.3.3.0.00.0.0.00.00.00","Delegação de Serviços Públicos Mediante Concessão, Permissão, Autorização ou Licença",46221.69,72810.27,0,{"$f":"((C31+D31+E31)/3)*(1+Parâmetros!C11)","v":41462.799399999996},{"$f":"((D31+E31+F31)/3)*(1+Parâmetros!D11)","v":39614.664058666669},{"$f":"((E31+F31+G31)/3)*(1+Parâmetros!E11)","v":28060.910103044534},{"$f":"((F31+G31+H31)/3)*(1+Parâmetros!F11)","v":37761.877252352075}]
["1.3.6.0.00.0.0.00.00.00","Cessão de Direitos",1401000,0,0,{"$f":"((C32+D32+E32)/3)*(1+Parâmetros!C11)","v":488014.99999999994},{"$f":"((D32+E32+F32)/3)*(1+Parâmetros!D11)","v":169178.53333333333},{"$f":"((E32+F32+G32)/3)*(1+Parâmetros!E11)","v":227454.6818866666},{"$f":"((F32+G32+H32)/3)*(1+Parâmetros!F11)","v":306088.28246611997}]
["1.3.9.0.00.0.0.00.00.00","Demais Receitas Patrimoniais",0,0,0,{"$f":"((C33+D33+E33)/3)*(1+Parâmetros!C11)","v":0},{"$f":"((D33+E33+F33)/3)*(1+Parâmetros!D11)","v":0},{"$f":"((E33+F33+G33)/3)*(1+Parâmetros!E11)","v":0},{"$f":"((F33+G33+H33)/3)*(1+Parâmetros!F11)","v":0}]
["1.4.0.0.00.0.0.00.00.00","Receita Agropecuária",15000,0,0,{"$f":"((C34+D34+E34)/3)*(1+Parâmetros!C11)","v":5225},{"$f":"((D34+E34+F34)/3)*(1+Parâmetros!D11)","v":1811.3333333333335},{"$f":"((E34+F34+G34)/3)*(1+Parâmetros!E11)","v":2435.2749666666668},{"$f":"((F34+G34+H34)/3)*(1+Parâmetros!F11)","v":3277.1764718000004}]
["1.5.0.0.00.0.0.00.00.00","Receita Industrial",0,0,0,{"$f":"((C35+D35+E35)/3)*(1+Parâmetros!C11)","v":0},{"$f":"((D35+E35+F35)/3)*(1+Parâmetros!D11)","v":0},{"$f":"((E35+F35+G35)/3)*(1+Parâmetros!E11)","v":0},{"$f":"((F35+G35+H35)/3)*(1+Parâmetros!F11)","v":0},""]
["1.6.0.0.00.0.0.00.00","Receita de Serviços",{"$f":"12789255.28-11791042.12","v":998213.16000000015},{"$f":"13895676.66-12759841.55","v":1135835.1099999994},{"$f":"900000","v":900000},{"$f":"((C36+D36+E36)/3)*(1+Parâmetros!C11)","v":1056860.1473833332},{"$f":"((D36+E36+F36)/3)*(1+Parâmetros!D11)","v":1072134.3558928887},{"$f":"((E36+F36+G36)/3)*(1+Parâmetros!E11)","v":1048334.9975839005},{"$f":"((F36+G36+H36)/3)*(1+Parâmetros!F11)","v":1099356.0072976025}]
["1.6.9.0.00.0.0.00.00","Receita Serviços Autarquia",11791042.119999999,12759841.550000001,{"$f":"13552244.48+16970.8+40305.65+130000+177132.73+129402.35","v":14046056.010000002},{"$f":"((C37+D37+E37)/3)*(1+Parâmetros!C11)","v":13444600.655200001},{"$f":"((D37+E37+F37)/3)*(1+Parâmetros!D11)","v":13953506.047936004},{"$f":"((E37+F37+G37)/3)*(1+Parâmetros!E11)","v":14343824.715016371},{"$f":"((F37+G37+H37)/3)*(1+Parâmetros!F11)","v":14442708.270680724}]
["1.7.0.0.00.0.0.00.00.00","Transferências Correntes",{"$f":"C39+C54+C70+C71+C72+C73+C74","v":92272919.169999987},103934644.91,104864306,102917178.71234998,106570494.64349818,107473082.0685221,{"$f":"I39+I54+I70+I71+I72+I73+I74","v":108361394.39326398}]
["1.7.1.0.00.0.0.00.00.00","Transferências da União e de suas Entidades",{"$f":"SUM(C40:C53)","v":43019147.189999998},46671833.960000001,48540306,{"$f":"SUM(F40:F53)","v":47439227.873766653},48967195.99142655,49755059.138416335,{"$f":"SUM(I40:I53)","v":50168796.121950395}]
["1.7.1.1.51.1.0.00.00.00","Cota-Parte do FPM - Cota Mensal",30863956.649999999,35196769.829999998,{"$f":"30108000+7000000+1000000","v":38108000},{"$f":"((C40+D40+E40)/3)*(1+Parâmetros!C16)","v":35764596.091466658},{"$f":"((D40+E40+F40)/3)*(1+Parâmetros!D16)","v":37447148.966370218},{"$f":"((E40+F40+G40)/3)*(1+Parâmetros!E16)","v":38219779.136523999},{"$f":"((F40+G40+H40)/3)*(1+Parâmetros!F16)","v":38258156.640063904}]
["1.7.1.1.51.2.0.00.00.00","Cota-Parte do FPM - Cotas Extraordinárias",2458096.6,3633312.72,4632000,{"$f":"((C41+D41+E41)/3)*(1+Parâmetros!C16)","v":3681703.8665333334},{"$f":"((D41+E41+F41)/3)*(1+Parâmetros!D16)","v":4101809.0280431113},{"$f":"((E41+F41+G41)/3)*(1+Parâmetros!E16)","v":4262659.4271379132},{"$f":"((F41+G41+H41)/3)*(1+Parâmetros!F16)","v":4135852.4971219297}]
["1.7.1.1.52.0.0.00.00.00","Cota-Parte do Imposto Sobre a Propriedade Territorial Rural",12110.78,23035.74,6250,{"$f":"((C42+D42+E42)/3)*(1+Parâmetros!C16)","v":14212.805200000003},{"$f":"((D42+E42+F42)/3)*(1+Parâmetros!D16)","v":14934.500518666669},{"$f":"((E42+F42+G42)/3)*(1+Parâmetros!E16)","v":12153.074963408892},{"$f":"((F42+G42+H42)/3)*(1+Parâmetros!F16)","v":14179.79736751261}]
["1.7.1.2.00.0.0.00.00.00","Transferência da Compensação Financeira pela Exploração de Recursos Naturais",664138.75,726712.19,{"$f":"22000+650000","v":672000},{"$f":"((C43+D43+E43)/3)*(1+Parâmetros!C16)","v":708245.48939999996},{"$f":"((D43+E43+F43)/3)*(1+Parâmetros!D16)","v":723388.80326066655},{"$f":"((E43+F43+G43)/3)*(1+Parâmetros!E16)","v":722247.77381349553},{"$f":"((F43+G43+H43)/3)*(1+Parâmetros!F16)","v":739499.50948946236}]
["1.7.1.3.00.0.0.00.00.00","Transferência de Recursos do Sistema Único de Saúde – SUS – Repasses Fundo a Fundo",3556962.91,3000233.67,{"$f":"(1584528-450000)/6*12","v":2269056},{"$f":"((C44+D44+E44)/3)*(1+Parâmetros!C16)","v":3030346.7191333333},{"$f":"((D44+E44+F44)/3)*(1+Parâmetros!D16)","v":2849541.8269357779},{"$f":"((E44+F44+G44)/3)*(1+Parâmetros!E16)","v":2797804.2941503949},{"$f":"((F44+G44+H44)/3)*(1+Parâmetros!F16)","v":2979341.2084753644}]
["1.7.1.4.00.0.0.00.00.00","Transferêncaias de Recursos do FNDE",2918413.5,2764059.18,{"$f":"1590000+608000+24500","v":2222500},{"$f":"((C45+D45+E45)/3)*(1+Parâmetros!C16)","v":2714040.6201333334},{"$f":"((D45+E45+F45)/3)*(1+Parâmetros!D16)","v":2643872.5980457775},{"$f":"((E45+F45+G45)/3)*(1+Parâmetros!E16)","v":2602608.5382414944},{"$f":"((F45+G45+H45)/3)*(1+Parâmetros!F16)","v":2733112.4697044077}]
["1.7.1.5.52.0.0.00.00.00","Transferências de Recursos de Complementação da União ao Fundeb – VAAR",371927.68,766090.17,497700,{"$f":"((C46+D46+E46)/3)*(1+Parâmetros!C16)","v":561596.46183333336},{"$f":"((D46+E46+F46)/3)*(1+Parâmetros!D16)","v":626716.07692944445},{"$f":"((E46+F46+G46)/3)*(1+Parâmetros!E16)","v":578864.30497522035},{"$f":"((F46+G46+H46)/3)*(1+Parâmetros!F16)","v":606730.71635004599}]
["1.7.1.5.XX.0.0.00.00.00","Transferências de outras Complementações do Fundeb (VAAF e/ou VAAT)",0,0,null,{"$f":"((C47+D47+E47)/3)*(1+Parâmetros!C16)","v":0},{"$f":"((D47+E47+F47)/3)*(1+Parâmetros!D16)","v":0},{"$f":"((E47+F47+G47)/3)*(1+Parâmetros!E16)","v":0},{"$f":"((F47+G47+H47)/3)*(1+Parâmetros!F16)","v":0}]
["1.7.1.6.50.0.0.00.00.00","Transferências de Recursos do Fundo Nacional de Assistência Social – FNAS",460141.55,256947.79,132800,{"$f":"((C48+D48+E48)/3)*(1+Parâmetros!C16)","v":291795.34006666666},{"$f":"((D48+E48+F48)/3)*(1+Parâmetros!D16)","v":233996.47465622227},{"$f":"((E48+F48+G48)/3)*(1+Parâmetros!E16)","v":226116.52305485852},{"$f":"((F48+G48+H48)/3)*(1+Parâmetros!F16)","v":258155.19597035996}]
["1.7.1.7.50.0.0.00.00.00","Transferências de Convênios da União e de Suas Entidades - SAÚDE/SUS",0,0,null,{"$f":"((C49+D49+E49)/3)","v":0},0,0,0]
["1.7.1.7.51.0.0.00.00.00","Transferências de Convênios da União e de Suas Entidades - EDUCAÇÃO",0,0,null,0,0,0,0]
["1.7.1.7.52.0.0.00.00.00","Transferências de Convênios da União e de Suas Entidades - ASS.SOCIAL",0,0,null,0,0,0,0]
["1.7.1.7.99.0.0.00.00.00","Transferências de Convênios da União e de Suas Entidades - OUTROS",1713398.77,304672.67,null,672690.48,325787.71666666662,332826.06555555551,443768.08740740735]
["1.7.1.8.99.0.0.00.00.00","Outras Transferências da União",0,0,null,{"$f":"((C53+D53+E53)/3)*(1+Parâmetros!C16)","v":0},{"$f":"((D53+E53+F53)/3)*(1+Parâmetros!D16)","v":0},{"$f":"((E53+F53+G53)/3)*(1+Parâmetros!E16)","v":0},{"$f":"((F53+G53+H53)/3)*(1+Parâmetros!F16)","v":0}]
["1.7.2.0.00.0.0.00.00.00","Transferências dos Estados e do Distrito Federal e de suas Entidades",{"$f":"SUM(C55:C69)","v":25632512.729999997},29959247.010000002,31139300,29476661.57873334,30788076.300947107,31070455.095061723,{"$f":"SUM(I55:I69)","v":31045195.232706167}]
["1.7.2.1.50.0.0.00.00.00","Cota-Parte do ICMS",16435015.98,20055769.59,{"$f":"18353200+4000000","v":22353200},{"$f":"((C55+D55+E55)/3)*(1+Parâmetros!C17)","v":20006955.093800001},{"$f":"((D55+E55+F55)/3)*(1+Parâmetros!D17)","v":21221414.392492004},{"$f":"((E55+F55+G55)/3)*(1+Parâmetros!E17)","v":21617733.625339281},{"$f":"((F55+G55+H55)/3)*(1+Parâmetros!F17)","v":21367675.057954639}]
["1.7.2.1.51.0.0.00.00.00","Cota-Parte do IPVA",6760353.6699999999,8224109.5700000003,7559800,{"$f":"((C56+D56+E56)/3)*(1+Parâmetros!C17)","v":7665049.501600001},{"$f":"((D56+E56+F56)/3)*(1+Parâmetros!D17)","v":7972646.0843440006},{"$f":"((E56+F56+G56)/3)*(1+Parâmetros!E17)","v":7887148.4992209608},{"$f":"((F56+G56+H56)/3)*(1+Parâmetros!F17)","v":7998446.9889560863}]
["1.7.2.1.52.0.0.00.00.00","Cota-Parte do IPI - Municípios",159957.21,254578.41,217700,{"$f":"((C57+D57+E57)/3)*(1+Parâmetros!C17)","v":214960.11079999999},{"$f":"((D57+E57+F57)/3)*(1+Parâmetros!D17)","v":233661.09707200003},{"$f":"((E57+F57+G57)/3)*(1+Parâmetros!E17)","v":226549.21067648003},{"$f":"((F57+G57+H57)/3)*(1+Parâmetros!F17)","v":229557.94230648325}]
["1.7.2.1.53.0.0.00.00.00","Cota-Parte da Contribuição de Intervenção no Domínio Econômico",4519.68,31045.81,20000,{"$f":"((C58+D58+E58)/3)*(1+Parâmetros!C17)","v":18892.266600000003},{"$f":"((D58+E58+F58)/3)*(1+Parâmetros!D17)","v":23778.946044},{"$f":"((E58+F58+G58)/3)*(1+Parâmetros!E17)","v":21308.212298959999},{"$f":"((F58+G58+H58)/3)*(1+Parâmetros!F17)","v":21753.0044806064}]
["1.7.2.1.98.0.0.00.00.00","Outras Participações na Receita de Impostos do Estado",0,0,0,{"$f":"((C59+D59+E59)/3)*(1+Parâmetros!C17)","v":0},{"$f":"((D59+E59+F59)/3)*(1+Parâmetros!D17)","v":0},{"$f":"((E59+F59+G59)/3)*(1+Parâmetros!E17)","v":0},{"$f":"((F59+G59+H59)/3)*(1+Parâmetros!F17)","v":0}]
["1.7.2.3.50.0.0.00.00.00","Transferência de Recursos do Estado para Programas de Saúde – Repasse Fundo a Fundo",68500,630636.18999999994,553000,{"$f":"((C60+D60+E60)/3)*(1+Parâmetros!C17)","v":425726.30459999997},{"$f":"((D60+E60+F60)/3)*(1+Parâmetros!D17)","v":547183.24816399999},{"$f":"((E60+F60+G60)/3)*(1+Parâmetros!E17)","v":518809.24793975998},{"$f":"((F60+G60+H60)/3)*(1+Parâmetros!F17)","v":507184.3922392783}]
["1.7.2.4.50.0.0.00.00.00","Transferência de Convênios dos Estados e do DF - SAÚDE/SUS",647331.23,378961.76,null,{"$f":"((C61+D61+E61)/3)","v":342097.66333333333},240353.14111111112,194150.26814814817,258867.0241975309]
["1.7.2.4.51.0.0.00.00.00","Transferência de Convênios dos Estados e do DF - EDUCAÇÃO",117334.39999999999,68641.600000000006,68000,84658.666666666672,73766.755555555559,75475.140740740753,77966.854320987666]
["1.7.2.4.99.0.0.AA.00.00","Outras Transf.de Convênios dos Estados e do DF - ASS.SOCIAL",0,13652.88,null,4550.96,6067.9466666666667,3539.6355555555551,4719.5140740740735]
["1.7.2.4.99.0.0.BB.00.00","Outras Transf.de Convênios dos Estados e do DF - OUTROS",490888.06,0,null,163629.35333333333,54543.117777777778,72724.157037037032,96965.542716049371]
["1.7.2.9.51.0.0.00.00.00","Transf. do Estado Destinadas a Aasistência Social -  FEAS",0,0,null,{"$f":"((C65+D65+E65)/3)*(1+Parâmetros!C17)","v":0},{"$f":"((D65+E65+F65)/3)*(1+Parâmetros!D17)","v":0},{"$f":"((E65+F65+G65)/3)*(1+Parâmetros!E17)","v":0},{"$f":"((F65+G65+H65)/3)*(1+Parâmetros!F17)","v":0}]
["1.7.2.9.53.0.0.00.00.00","Transferência da Comp.Financeira das Perdas com Arrecadação de ICMS - LC nº 194/2022",924753.49,264681.2,367600,{"$f":"((C66+D66+E66)/3)*(1+Parâmetros!C17)","v":529391.79460000002},{"$f":"((D66+E66+F66)/3)*(1+Parâmetros!D17)","v":394968.81816399994},{"$f":"((E66+F66+G66)/3)*(1+Parâmetros!E17)","v":439266.60833975999},{"$f":"((F66+G66+H66)/3)*(1+Parâmetros!F17)","v":463633.25517527841}]
["1.7.2.9.99.0.0.AA.00.00","Outras Transferências dos Estados - FEAS -  Assist Social (Fundo a Fundo)",23859.01,0,0,{"$f":"((C67+D67+E67)/3)*(1+Parâmetros!C17)","v":8112.0634},{"$f":"((D67+E67+F67)/3)*(1+Parâmetros!D17)","v":2758.1015560000001},{"$f":"((E67+F67+G67)/3)*(1+Parâmetros!E17)","v":3695.8560850399999},{"$f":"((F67+G67+H67)/3)*(1+Parâmetros!F17)","v":4952.4471539535998}]
["1.7.2.9.99.0.0.BB.00.00","Outras Transferências dos Estados - SEDUC -  Educação",0,0,0,{"$f":"((C68+D68+E68)/3)*(1+Parâmetros!C17)","v":0},{"$f":"((D68+E68+F68)/3)*(1+Parâmetros!D17)","v":0},{"$f":"((E68+F68+G68)/3)*(1+Parâmetros!E17)","v":0},{"$f":"((F68+G68+H68)/3)*(1+Parâmetros!F17)","v":0}]
["1.7.2.9.99.0.0.CC.00.00","Demais Transferências do Estado.",0,37170,0,{"$f":"((C69+D69+E69)/3)*(1+Parâmetros!C17)","v":12637.800000000001},{"$f":"((D69+E69+F69)/3)*(1+Parâmetros!D17)","v":16934.652000000002},{"$f":"((E69+F69+G69)/3)*(1+Parâmetros!E17)","v":10054.633680000003},{"$f":"((F69+G69+H69)/3)*(1+Parâmetros!F17)","v":13473.209131200001}]
["1.7.3.0.00.0.0.00.00.00","Transferências dos Municípios e de suas Entidades",0,0,0,{"$f":"((C70+D70+E70)/3)","v":0},0,0,0]
["1.7.4.0.00.0.0.00.00.00","Transferências de Instituições Privadas",349500.01,73320.91,158700,193840.30666666667,141953.73888888888,164831.3485185185,166875.13135802469]
["1.7.5.1.50.0.0.00.00.00","Transferências de Recursos do FUNDEB ",23158952.25,27111823.379999999,{"$f":"22950000+2000000","v":24950000},{"$f":"((C72+D72+E72)/3)*(1+AVERAGE(Parâmetros!C16:'Parâmetros'!C17))","v":25700431.673583329},{"$f":"((D72+E72+F72)/3)*(1+AVERAGE(Parâmetros!D16:'Parâmetros'!D17))","v":26568770.476640966},{"$f":"((E72+F72+G72)/3)*(1+AVERAGE(Parâmetros!E16:'Parâmetros'!E17))","v":26383227.401326634},{"$f":"((F72+G72+H72)/3)*(1+AVERAGE(Parâmetros!F16:'Parâmetros'!F17))","v":26872913.43011323},"  "]
["1.7.6.0.00.0.0.00.00.00","Transferências do Exterior",0,0,0,{"$f":"((C73+D73+E73)/3)*(1+Parâmetros!C11)","v":0},{"$f":"((D73+E73+F73)/3)*(1+Parâmetros!D11)","v":0},{"$f":"((E73+F73+G73)/3)*(1+Parâmetros!E11)","v":0},{"$f":"((F73+G73+H73)/3)*(1+Parâmetros!F11)","v":0}]
["1.7.9.0.00.0.0.00.00.00","Demais Transferências Correntes",112806.99,118419.65,76000,{"$f":"((C74+D74+E74)/3)*(1+Parâmetros!C11)","v":107017.27959999999},{"$f":"((D74+E74+F74)/3)*(1+Parâmetros!D11)","v":104498.13559466666},{"$f":"((E74+F74+G74)/3)*(1+Parâmetros!E11)","v":99509.08519887412},{"$f":"((F74+G74+H74)/3)*(1+Parâmetros!F11)","v":107614.47713616511}]
["1.9.0.0.00.0.0.00.00.00","Outras Receitas Correntes",{"$f":"C76+C77+C79+C78","v":583523.28},{"$f":"D76+D77+D79+D78","v":5575837.5199999996},{"$f":"E76+E77+E79+E78","v":552466.88},{"$f":"F76+F77+F79+F78","v":1237953.308533333},{"$f":"G76+G77+G79+G78","v":1553636.0056248892},{"$f":"H76+H77+H78+H79","v":1157377.8487981607},{"$f":"I76+I77+I79+I78","v":1366342.6383829087}]
["1.9.1.0.00.0.0.00.00.00","Multas Administrativas, Contratuais e Judiciais",122428.7,106735.47,64000,{"$f":"((C76+D76+E76)/3)*(1+Parâmetros!C11)","v":102118.85255},{"$f":"((D76+E76+F76)/3)*(1+Parâmetros!D11)","v":94589.498483999996},{"$f":"((E76+F76+G76)/3)*(1+Parâmetros!E11)","v":90231.160292867396},{"$f":"((F76+G76+H76)/3)*(1+Parâmetros!F11)","v":99281.070919096121}]
["1.9.2.0.00.0.0.00.00.00","Indenizações, Restituições e Ressarcimentos",{"$f":"218173.82-4956.46","v":213217.36000000002},{"$f":"847002.15-1221.1","v":845781.05},{"$f":"141950","v":141950},{"$f":"((C77+D77+E77)/3)*(1+Parâmetros!C11)","v":418330.36281666672},{"$f":"((D77+E77+F77)/3)*(1+Parâmetros!D11)","v":487434.62310977781},{"$f":"((E77+F77+G77)/3)*(1+Parâmetros!E11)","v":362614.15662914247},{"$f":"((F77+G77+H77)/3)*(1+Parâmetros!F11)","v":438859.1833242331}]
["1.9.2.0.00.0.0.00.00","Outras Indenizações, Restituições e Ressarcimentos Autarquia",4956.46,1221.0999999999999,{"$f":"5303.38+21213.5","v":26516.880000000001},{"$f":"((C78+D78+E78)/3)*(1+Parâmetros!C11)","v":11388.563266666666},{"$f":"((D78+E78+F78)/3)*(1+Parâmetros!D11)","v":13563.868332444445},{"$f":"((E78+F78+G78)/3)*(1+Parâmetros!E11)","v":17813.528744452356},{"$f":"((F78+G78+H78)/3)*(1+Parâmetros!F11)","v":14797.022278872959}]
["1.9.9.0.00.0.0.00.00.00","Demais Receitas Correntes",{"$f":"C80+C81","v":242920.76},4622099.9000000004,{"$f":"E80+E81","v":320000},706115.52989999973,958048.01569866692,686719.00313169847,813405.36186070647]
["1.9.9.0.03.0.0.00.00.00","Compensações Financeiras entre o Regime Geral e os Regimes Próprios de Previdência dos Servidores",201531.53,4161887.31,320000,{"$f":"((C80+D80+E80)/3)*(1+Parâmetros!C11)-1100000","v":531390.89593333309},{"$f":"((D80+E80+F80)/3)*(1+Parâmetros!D11)-1000000","v":737936.44472355582},{"$f":"((E80+F80+G80)/3)*(1+Parâmetros!E11)","v":550066.1926013492},{"$f":"((F80+G80+H80)/3)*(1+Parâmetros!F11)","v":629510.16250735044}]
["1.9.9.0.99.0.0.00.00.00","Outras Receitas (demais receitas diversas)",41389.230000000003,460212.59,null,{"$f":"((C81+D81+E81)/3)*(1+Parâmetros!C11)","v":174724.63396666665},{"$f":"((D81+E81+F81)/3)*(1+Parâmetros!D11)","v":220111.57097511116},{"$f":"((E81+F81+G81)/3)*(1+Parâmetros!E11)","v":136652.81053034929},{"$f":"((F81+G81+H81)/3)*(1+Parâmetros!F11)","v":183895.199353356}]
["2.0.0.0.00.0.0.00.00.00","Receitas de Capital",{"$f":"C83+C84+C85+C86+C105","v":3931818.73},1738636.02,3005076.54,7292231.074583333,2345544.8420333336,2547857.2684899913,{"$f":"I83+I84+I85+I86+I105","v":2395483.1719604838}]
["2.1.0.0.00.0.0.00.00.00","Operações de Crédito",0,null,null,5000000,0,0,0]
["2.2.0.0.00.0.0.00.00.00","Alienação de Bens",657027.71,122801.96,549222.54,{"$f":"((C84+D84+E84)/3)","v":443017.40333333332},{"$f":"((D84+E84+F84)/3)","v":371680.63444444444},{"$f":"((E84+F84+G84)/3)","v":454640.19259259262},{"$f":"((F84+G84+H84)/3)","v":423112.74345679017}]
["2.3.0.0.00.0.0.00.00.00","Amortização de Empréstimos",17542.689999999999,4478.0600000000004,3800,{"$f":"((C85+D85+E85)/3)*(1+Parâmetros!C11)","v":8994.2279166666649},{"$f":"((D85+E85+F85)/3)*(1+Parâmetros!D11)","v":5987.7264777777791},{"$f":"((E85+F85+G85)/3)*(1+Parâmetros!E11)","v":6500.4344159172224},{"$f":"((F85+G85+H85)/3)*(1+Parâmetros!F11)","v":7432.9065283851369}]
["2.4.0.0.00.0.0.00.00.00","Transferências de Capital",{"$f":"SUM(C87:C104)","v":3257248.33},1611356,2452054,1840219.4433333336,1967876.4811111114,2086716.6414814817,1964937.5219753087]
["2.4.1.1.00.0.0.00.00.00","Transf.do SUS  - Fundo a Fundo  -  Bloco de Estruturação",0,0,2452054,{"$f":"((C87+D87+E87)/3)","v":817351.33333333337},{"$f":"((D87+E87+F87)/3)","v":1089801.7777777778},1453069.0370370371,1120074.0493827162]
["2.4.1.2.00.0.0.00.00.00","TransF. De Recursos do FNDE",127500,22500,null,50000,24166.666666666668,24722.222222222223,32962.962962962964]
["2.4.1.3.00.0.0.00.00.00","TransF. De Recursos do FNAS",2195055,0,null,{"$f":"((C89+D89+E89)/3)-600000","v":131685},{"$f":"((D89+E89+F89)/3)","v":43895},{"$f":"((E89+F89+G89)/3)","v":58526.666666666664},{"$f":"((F89+G89+H89)/3)","v":78035.555555555547}]
["2.4.1.4.50.0.0.00.00.00","Transf. De Convênios da União para SUS (Saúde)",0,238856,null,79618.666666666672,106158.22222222223,61925.629629629635,82567.506172839509]
["2.4.1.4.51.0.0.00.00.00","Transf.de Convênio da União p/ Programas de Educação",0,0,null,0,0,0,0]
["2.4.1.4.99.0.0.AA.00.00","Transf.de Convênio da União p/ Programas de Assistência Social",0,0,null,0,{"$f":"((D92+E92+F92)/3)","v":0},{"$f":"((E92+F92+G92)/3)","v":0},{"$f":"((F92+G92+H92)/3)","v":0}]
["2.4.1.4.99.0.0.BB.00.00","Demais Transf. De Convênios da União",0,0,null,0,0,0,0]
["2.4.1.9.99.0.0.00.00.00","Outras Transf. de Recursos da União",700000,1200000,null,633333.33333333337,{"$f":"((D94+E94+F94)/3)","v":611111.11111111112},{"$f":"((E94+F94+G94)/3)","v":414814.81481481483},{"$f":"((F94+G94+H94)/3)","v":553086.4197530864}]
["2.4.2.1.50.0.0.00.00.00","Transf.de Recursos do SUS - FES (estado - repaqsses fundo a fundo)",0,150000,null,50000,66666.666666666672,38888.888888888891,51851.851851851854]
["2.4.2.2.50.0.0.00.00.00","Trnans.de Convênio do Estado para o SUS",0,0,null,0,{"$f":"((D96+E96+F96)/3)","v":0},{"$f":"((E96+F96+G96)/3)","v":0},{"$f":"((F96+G96+H96)/3)","v":0}]
["2.4.2.2.51.0.0.00.00.00","Transf.de Convênios do Estado p/ Programas de Educação",0,0,null,0,0,0,0]
["2.4.2..2.99.0.0.AA.00.00","Transf.de Convênios do Estado p/ Programas de Assistência Social",0,0,null,0,{"$f":"((D98+E98+F98)/3)","v":0},{"$f":"((E98+F98+G98)/3)","v":0},{"$f":"((F98+G98+H98)/3)","v":0}]
["2.4.2.2.99.0.0.BB.00.00","Outras Transf.de Convênio do  Estado",234693.33,0,null,{"$f":"((C99+D99+E99)/3)","v":78231.11},26077.036666666667,34769.382222222222,46359.176296296297]
["2.4.3.0.00.0.0.00.00.00","Transferências dos Municípios e de suas Entidades",0,0,null,0,0,0,0]
["2.4.4.0.00.0.0.00.00.00","Transferências de Instituições Privadas",0,0,null,0,0,0,0]
["2.4.5.0.00.0.0.00.00.00","Transferências de Outras Instituições Públicas",0,0,null,0,0,0,0]
["2.4.6.0.00.0.0.00.00.00","Transferências do Exterior",0,0,null,0,0,0,0]
["2.4.7.0.00.0.0.00.00.00","Transferências de Pessoas Físicas",0,0,null,0,0,0,0]
["2.9.0.0.00.0.0.00.00.00","Outras Receitas de Capital",{"$f":"C106+C107","v":0},0,0,0,0,0,0]
["2.9.9.0.00.1.0.01.00.00","Outras Receitas Diretamente Arrecadadas pelo RPPS ",0,0,null,{"$f":"((C106+D106+E106)/3)*(1+Parâmetros!C11)","v":0},{"$f":"((D106+E106+F106)/3)*(1+Parâmetros!D11)","v":0},{"$f":"((E106+F106+G106)/3)*(1+Parâmetros!E11)","v":0},{"$f":"((F106+G106+H106)/3)*(1+Parâmetros!F11)","v":0}]
["2.9.9.0.00.1.0.AA.00.00","Demais Receitas de Capital",0,0,null,{"$f":"((C107+D107+E107)/3)*(1+Parâmetros!C11)","v":0},{"$f":"((D107+E107+F107)/3)*(1+Parâmetros!D11)","v":0},{"$f":"((E107+F107+G107)/3)*(1+Parâmetros!E11)","v":0},{"$f":"((F107+G107+H107)/3)*(1+Parâmetros!F11)","v":0}]
["7.0.0.0.00.0.0.00.00.00","Receitas Correntes Intraorçamentárias",{"$f":"C109+C110+C111","v":9460678.6400000006},10524096.74,11917585.630000001,11112655.751816668,11632170.548896445,11996660.769219808,{"$f":"I109+I110+I111","v":12020554.526196791}]
["7.0.0.0.00.0.0.00.00.00","Receitas Correntes Intraorçamentárias -RPPS",9210612.5500000007,10263919.25,11615900,{"$f":"((C109+D109+E109)/3)*(1+Parâmetros!C11)","v":10829833.743666667},{"$f":"((D109+E109+F109)/3)*(1+Parâmetros!D11)","v":11339346.371137777},{"$f":"((E109+F109+G109)/3)*(1+Parâmetros!E11)","v":11693016.227733819},{"$f":"((F109+G109+H109)/3)*(1+Parâmetros!F11)","v":11716319.93451824}]
["7.0.0.0.00.0.0.00.00.00","Receitas Correntes Intraorçamentárias - Outras",null,324.35000000000002,{"$f":"10000","v":10000},{"$f":"((C110+D110+E110)/3)*(1+Parâmetros!C11)","v":3596.3152500000001},{"$f":"((D110+E110+F110)/3)*(1+Parâmetros!D11)","v":4825.8306199999997},{"$f":"((E110+F110+G110)/3)*(1+Parâmetros!E11)","v":6375.9046856069999},{"$f":"((F110+G110+H110)/3)*(1+Parâmetros!F11)","v":5120.1254922400221}]
["7.0.0.0.00.0.0.00.00.00","Receitas Correntes Intraorçamentárias - Autarquia",250066.09,259853.14,291685.63,{"$f":"((C111+D111+E111)/3)*(1+Parâmetros!C11)","v":279225.69289999997},{"$f":"((D111+E111+F111)/3)*(1+Parâmetros!D11)","v":287998.34713866666},{"$f":"((E111+F111+G111)/3)*(1+Parâmetros!E11)","v":297268.63680038258},{"$f":"((F111+G111+H111)/3)*(1+Parâmetros!F11)","v":299114.46618631104}]
["8.0.0.0.00.0.0.00.00.00","Receitas de Capital Intraorçamentárias",{"$f":"C113+C114","v":0},0,0,0,0,0,0]
["8.0.0.0.00.0.0.00.00.00","Receitas de Capital Intraorçamentárias - RPPS",0,0,0,{"$f":"((C113+D113+E113)/3)*(1+Parâmetros!C11)","v":0},{"$f":"((D113+E113+F113)/3)*(1+Parâmetros!D11)","v":0},{"$f":"((E113+F113+G113)/3)*(1+Parâmetros!E11)","v":0},{"$f":"((F113+G113+H113)/3)*(1+Parâmetros!F11)","v":0}]
["8.0.0.0.00.0.0.00.00.00","Receitas de Capital Intraorçamentárias - Outras",0,0,0,{"$f":"((C114+D114+E114)/3)*(1+Parâmetros!C11)","v":0},{"$f":"((D114+E114+F114)/3)*(1+Parâmetros!D11)","v":0},{"$f":"((E114+F114+G114)/3)*(1+Parâmetros!E11)","v":0},{"$f":"((F114+G114+H114)/3)*(1+Parâmetros!F11)","v":0}]
["6.2.1.3.0.00.00.00.00","( R ) Deduções da Receita ",{"$f":"C116+C117+C118+C119+C120","v":-14338534.986000001},{"$f":"D116+D117+D118+D119+D120","v":-17685919.717999998},{"$f":"E116+E117+E118+E120","v":-13722510},{"$f":"F116+F117+F118+F119+F120","v":-15976685.737861034},{"$f":"G116+G117+G118+G119+G120","v":-16515430.703193998},{"$f":"H116+H117+H118+H119+H120","v":-16090633.221416024},{"$f":"I116+I117+I118+I119+I120","v":-16701184.098120794}]
["6.2.1.3.0.00.00.00.00","Deduções da Receita de Impostos (digitar com sinal negativo)",-1351858.33,-1569424.38,null,{"$f":"((C116+D116+E116)/3)*(1+Parâmetros!C11)*(1+Parâmetros!C15)","v":-1076599.7923343666},{"$f":"((D116+E116+F116)/3)*(1+Parâmetros!D11)*(1+Parâmetros!D15)","v":-970674.56344359869},{"$f":"((E116+F116+G116)/3)*(1+Parâmetros!E11)*(1+Parâmetros!E15)","v":-749658.23049776966},{"$f":"((F116+G116+H116)/3)*(1+Parâmetros!F11)*(1+Parâmetros!F15)","v":-1024835.256667637}]
["6.2.1.3.0.00.00.00.00","Deduções para o FUNDEB",{"$f":"-(C40+C42+C55+C56+C57+C66)*0.2","v":-11031229.556000002},-12803788.868000001,-13722510,{"$f":"-(F40+F42+F55+F56+F57+F66)*0.2","v":-12839033.079493335},-13456954.771792177,-13680526.031012777,-13666329.936364783]
["6.2.1.3.0.00.00.00.00","Demais Deduções da Receita Corrente (digitar com sinal negativo)",{"$f":"-1955442.99+1562985.7","v":-392457.29000000004},{"$f":"-3312704.26+2831211.15","v":-481493.10999999987},null,{"$f":"((C118+D118+E118)/3)*(1+Parâmetros!C11)","v":-304426.05599999998},{"$f":"((D118+E118+F118)/3)*(1+Parâmetros!D11)","v":-272451.97754666663},{"$f":"((E118+F118+G118)/3)*(1+Parâmetros!E11)","v":-199657.48741050132},{"$f":"((F118+G118+H118)/3)*(1+Parâmetros!F11)","v":-268681.29025118012}]
["6.2.1.3.0.00.00.00.00","Demais Deduções da Receita Corrente - RPPS (digitar com sinal negativo)",-1562985.7,-2831211.15,-648744.61,{"$f":"((C119+D119+E119)/3)*(1+Parâmetros!C11)","v":-1756624.6085666665},{"$f":"((D119+E119+F119)/3)*(1+Parâmetros!D11)","v":-1815347.8611031109},{"$f":"((E119+F119+G119)/3)*(1+Parâmetros!E11)","v":-1460790.18127371},{"$f":"((F119+G119+H119)/3)*(1+Parâmetros!F11)","v":-1741335.877226447}]
["6.2.1.3.0.00.00.00.00","Demais Deduções da Receita de Capital (digitar com sinal negativo)",-4.1100000000000003,-2.21,0,{"$f":"((C120+D120+E120)/3)*(1+Parâmetros!C11)","v":-2.2014666666666667},{"$f":"((D120+E120+F120)/3)*(1+Parâmetros!D11)","v":-1.5293084444444445},{"$f":"((E120+F120+G120)/3)*(1+Parâmetros!E11)","v":-1.2912212659555555},{"$f":"((F120+G120+H120)/3)*(1+Parâmetros!F11)","v":-1.7376107464650667}]
[null,"TOTAL DAS RECEITAS ",{"$f":"C8+C82+C108+C112+C115","v":164055339.27399999},173118365.72200003,181833556.37999997,184088405.71167156,184761773.51457196,189756897.90808311,{"$f":"I8+I82+I108+I112+I115","v":178379347.24999905}]
[]
[null,"Informação Complementar",{"$f":"C7","v":2023},2024,2025,2026,2027,2028,2029]
[null,"Recursos Próprios Aportados para o Fundo Municipal de Assistência Social",729864.99,1054410.18,1100000,{"$f":"((C124+D124+E124)/3)*(1+Parâmetros!C11)","v":1004689.1842166666},{"$f":"((D124+E124+F124)/3)*(1+Parâmetros!D11)","v":1095154.4462617775},{"$f":"((E124+F124+G124)/3)*(1+Parâmetros!E11)","v":1107465.8805085896},{"$f":"((F124+G124+H124)/3)*(1+Parâmetros!F11)","v":1109729.0908015138}]
[]
[]
[{"$f":"Parâmetros!A7","v":"Município de :  "}]
[{"$f":"Parâmetros!A8","v":"PLANO PLURIANUAL 2026 - 2029"}]
["Memória de Cálculo das Estimativas de Despesas Fixas / Obrigatórias"]
[null,null,null,null,null,null,null,null,"Valores em R$ 1,00"]
[null,"CONTAS","EXECUTADA","EXECUTADA","EXECUTADA","PROJETADA","PROJETADA","PROJETADA","PROJETADA"]
[null,"CONSOLIDADAS ANUAIS",{"$f":"C7","v":2023},{"$f":"C132+1","v":2024},2025,2026,2027,2028,2029]
["3.1.00.00.00.00.00","Pessoal e Encargos Sociais",{"$f":"SUM(C134:C139)","v":59600622.179999992},66246461.969999984,67962600,69897056.329642922,73971349.513592601,76792773.138785064,79971528.022744641]
[null,"Pessoal e Encargos Sociais -  Poder Legislativo",{"$f":"367919.11+77385.67+990","v":446294.77999999997},{"$f":"390013.52+38767.72+2863.55","v":431644.79},{"$f":"450000+110000+5000","v":565000},{"$f":"((C134+D134+E134)/3)*(1+Parâmetros!C11)*(1+Parâmetros!C13)*(1+Parâmetros!C19)","v":510263.83425995999},{"$f":"((D134+E134+F134)/3)*(1+Parâmetros!D11)*(1+Parâmetros!D13)*(1+Parâmetros!D19)","v":530335.39358755329},{"$f":"((E134+F134+G134)/3)*(1+Parâmetros!E11)*(1+Parâmetros!E13)*(1+Parâmetros!E19)","v":564144.50072794629},{"$f":"((F134+G134+H134)/3)*(1+Parâmetros!F11)*(1+Parâmetros!F13)*(1+Parâmetros!F19)","v":563680.99830443307}]
[null,"Pessoal e Encargos Sociais - Saúde",{"$f":"8100190+260811.17","v":8361001.1699999999},{"$f":"9317549.9","v":9317549.9000000004},{"$f":"10626000-825500","v":9800500},{"$f":"((C135+D135+E135)/3)*(1+Parâmetros!C11)*(1+Parâmetros!C13)*(1+Parâmetros!C18)","v":9911709.109217599},{"$f":"((D135+E135+F135)/3)*(1+Parâmetros!D11)*(1+Parâmetros!D13)*(1+Parâmetros!D18)","v":10523115.784668045},{"$f":"((E135+F135+G135)/3)*(1+Parâmetros!E11)*(1+Parâmetros!E13)*(1+Parâmetros!E18)","v":10963457.700922368},{"$f":"((F135+G135+H135)/3)*(1+Parâmetros!F11)*(1+Parâmetros!F13)*(1+Parâmetros!F18)","v":11381861.565646226}]
[null,"Pessoal e Encargos Sociais - Educação",{"$f":"32299037.6+1026123.48","v":33325161.080000002},{"$f":"35853468.15","v":35853468.149999999},35618100,{"$f":"((C136+D136+E136)/3)*(1+Parâmetros!C11)*(1+Parâmetros!C13)*(1+Parâmetros!C18)","v":37800238.919429377},{"$f":"((D136+E136+F136)/3)*(1+Parâmetros!D11)*(1+Parâmetros!D13)*(1+Parâmetros!D18)","v":39610383.173570305},{"$f":"((E136+F136+G136)/3)*(1+Parâmetros!E11)*(1+Parâmetros!E13)*(1+Parâmetros!E18)","v":40984696.476885125},{"$f":"((F136+G136+H136)/3)*(1+Parâmetros!F11)*(1+Parâmetros!F13)*(1+Parâmetros!F18)","v":42918243.120910183}]
[null,"Pessoal e Encargos Sociais - Assist. Social",{"$f":"320102.73+8182.71","v":328285.44},{"$f":"358490.11","v":358490.11},825500,{"$f":"((C137+D137+E137)/3)*(1+Parâmetros!C11)*(1+Parâmetros!C13)*(1+Parâmetros!C18)","v":545478.6377593081},{"$f":"((D137+E137+F137)/3)*(1+Parâmetros!D11)*(1+Parâmetros!D13)*(1+Parâmetros!D18)","v":626922.18260776252},{"$f":"((E137+F137+G137)/3)*(1+Parâmetros!E11)*(1+Parâmetros!E13)*(1+Parâmetros!E18)","v":724447.3545962132},{"$f":"((F137+G137+H137)/3)*(1+Parâmetros!F11)*(1+Parâmetros!F13)*(1+Parâmetros!F18)","v":687606.50437775324}]
[null,"Pessoal e Encargos Sociais - Do RPPS",{"$f":"5803510.89+570878.52+978.2","v":6375367.6100000003},{"$f":"6610127.45+625920.28","v":7236047.7300000004},8160000,{"$f":"((C138+D138+E138)/3)*(1+Parâmetros!C11)*(1+Parâmetros!C13)*(1+Parâmetros!C18)","v":7852961.7051305901},{"$f":"((D138+E138+F138)/3)*(1+Parâmetros!D11)*(1+Parâmetros!D13)*(1+Parâmetros!D18)","v":8427628.2860989831},{"$f":"((E138+F138+G138)/3)*(1+Parâmetros!E11)*(1+Parâmetros!E13)*(1+Parâmetros!E18)","v":8862262.1220325995},{"$f":"((F138+G138+H138)/3)*(1+Parâmetros!F11)*(1+Parâmetros!F13)*(1+Parâmetros!F18)","v":9114271.1788315102}]
[null,"Pessoal e Encargos Sociais - Demais Áreas",{"$f":"58040180.96-47539024.52+1558473.02-260811.17-1026123.48-8182.71","v":10764512.099999996},{"$f":"64566586.23-53194337.13+1677012.19","v":13049261.289999994},{"$f":"25000+5000+1500000+112000+10000+30000+288000+1295000+915300+872000+3960500+1290000+736000+1954700","v":12993500},{"$f":"((C139+D139+E139)/3)*(1+Parâmetros!C11)*(1+Parâmetros!C13)*(1+Parâmetros!C18)","v":13276404.123846095},{"$f":"((D139+E139+F139)/3)*(1+Parâmetros!D11)*(1+Parâmetros!D13)*(1+Parâmetros!D18)","v":14252964.693059959},{"$f":"((E139+F139+G139)/3)*(1+Parâmetros!E11)*(1+Parâmetros!E13)*(1+Parâmetros!E18)","v":14693764.983620817},{"$f":"((F139+G139+H139)/3)*(1+Parâmetros!F11)*(1+Parâmetros!F13)*(1+Parâmetros!F18)","v":15305864.654674543}]
["3.2.00.00.00.00.00","Juros e Encargos da Dívida",{"$f":"SUM(C141:C146)","v":0},0,0,0,0,0,0]
[null,"Juros e Encargos da Dívida - Poder Legislativo",null,null,null,{"$f":"((C141+D141+E141)/3)*(1+Parâmetros!C11)","v":0},{"$f":"((D141+E141+F141)/3)*(1+Parâmetros!D11)","v":0},{"$f":"((E141+F141+G141)/3)*(1+Parâmetros!E11)","v":0},{"$f":"((F141+G141+H141)/3)*(1+Parâmetros!F11)","v":0}]
[null,"Juros e Encargos da Dívida - Saúde",null,null,null,{"$f":"((C142+D142+E142)/3)*(1+Parâmetros!C11)","v":0},{"$f":"((D142+E142+F142)/3)*(1+Parâmetros!D11)","v":0},{"$f":"((E142+F142+G142)/3)*(1+Parâmetros!E11)","v":0},{"$f":"((F142+G142+H142)/3)*(1+Parâmetros!F11)","v":0}]
[null,"Juros e Encargos da Dívida - Educação",null,null,null,{"$f":"((C143+D143+E143)/3)*(1+Parâmetros!C11)","v":0},{"$f":"((D143+E143+F143)/3)*(1+Parâmetros!D11)","v":0},{"$f":"((E143+F143+G143)/3)*(1+Parâmetros!E11)","v":0},{"$f":"((F143+G143+H143)/3)*(1+Parâmetros!F11)","v":0}]
[null,"Juros e Encargos da Dívida - Assist. Social",null,null,null,{"$f":"((C144+D144+E144)/3)*(1+Parâmetros!C11)","v":0},{"$f":"((D144+E144+F144)/3)*(1+Parâmetros!D11)","v":0},{"$f":"((E144+F144+G144)/3)*(1+Parâmetros!E11)","v":0},{"$f":"((F144+G144+H144)/3)*(1+Parâmetros!F11)","v":0}]
[null,"Juros e Encargos da Dívida - Do RPPS",null,null,null,{"$f":"((C145+D145+E145)/3)*(1+Parâmetros!C11)","v":0},{"$f":"((D145+E145+F145)/3)*(1+Parâmetros!D11)","v":0},{"$f":"((E145+F145+G145)/3)*(1+Parâmetros!E11)","v":0},{"$f":"((F145+G145+H145)/3)*(1+Parâmetros!F11)","v":0}]
[null,"Juros e Encargos da Dívida - Demais Áreas",null,null,null,{"$f":"((C146+D146+E146)/3)*(1+Parâmetros!C11)","v":0},{"$f":"((D146+E146+F146)/3)*(1+Parâmetros!D11)","v":0},{"$f":"((E146+F146+G146)/3)*(1+Parâmetros!E11)","v":0},{"$f":"((F146+G146+H146)/3)*(1+Parâmetros!F11)","v":0}]
["3.3.XX.08.00.00.00","Outros Benefícios Assistênciais do Servidor e do Militar",{"$f":"SUM(C148:C153)","v":0},0,0,0,0,0,0]
[null,"Outros Benef.Assistênciais - Poder Legislativo",null,null,null,{"$f":"((C148+D148+E148)/3)*(1+Parâmetros!C11)*(1+Parâmetros!C14)","v":0},{"$f":"((D148+E148+F148)/3)*(1+Parâmetros!D11)*(1+Parâmetros!D14)","v":0},{"$f":"((E148+F148+G148)/3)*(1+Parâmetros!E11)*(1+Parâmetros!E14)","v":0},{"$f":"((F148+G148+H148)/3)*(1+Parâmetros!F11)*(1+Parâmetros!F14)","v":0}]
[null,"Outros Benef.Assistênciais - Saúde",null,null,null,{"$f":"((C149+D149+E149)/3)*(1+Parâmetros!C11)*(1+Parâmetros!C14)","v":0},{"$f":"((D149+E149+F149)/3)*(1+Parâmetros!D11)*(1+Parâmetros!D14)","v":0},{"$f":"((E149+F149+G149)/3)*(1+Parâmetros!E11)*(1+Parâmetros!E14)","v":0},{"$f":"((F149+G149+H149)/3)*(1+Parâmetros!F11)*(1+Parâmetros!F14)","v":0}]
[null,"Outros Benef.Assistênciais - Educação",null,null,null,{"$f":"((C150+D150+E150)/3)*(1+Parâmetros!C11)*(1+Parâmetros!C14)","v":0},{"$f":"((D150+E150+F150)/3)*(1+Parâmetros!D11)*(1+Parâmetros!D14)","v":0},{"$f":"((E150+F150+G150)/3)*(1+Parâmetros!E11)*(1+Parâmetros!E14)","v":0},{"$f":"((F150+G150+H150)/3)*(1+Parâmetros!F11)*(1+Parâmetros!F14)","v":0}]
[null,"Outros Benef.Assistênciais - Assist. Social",null,null,null,{"$f":"((C151+D151+E151)/3)*(1+Parâmetros!C11)*(1+Parâmetros!C14)","v":0},{"$f":"((D151+E151+F151)/3)*(1+Parâmetros!D11)*(1+Parâmetros!D14)","v":0},{"$f":"((E151+F151+G151)/3)*(1+Parâmetros!E11)*(1+Parâmetros!E14)","v":0},{"$f":"((F151+G151+H151)/3)*(1+Parâmetros!F11)*(1+Parâmetros!F14)","v":0}]
[null,"Outros Benef.Assistênciais - Do RPPS",null,null,null,{"$f":"((C152+D152+E152)/3)*(1+Parâmetros!C11)*(1+Parâmetros!C14)","v":0},{"$f":"((D152+E152+F152)/3)*(1+Parâmetros!D11)*(1+Parâmetros!D14)","v":0},{"$f":"((E152+F152+G152)/3)*(1+Parâmetros!E11)*(1+Parâmetros!E14)","v":0},{"$f":"((F152+G152+H152)/3)*(1+Parâmetros!F11)*(1+Parâmetros!F14)","v":0}]
[null,"Outros Benef.Assistênciais - Demais Áreas",null,null,null,{"$f":"((C153+D153+E153)/3)*(1+Parâmetros!C11)*(1+Parâmetros!C14)","v":0},{"$f":"((D153+E153+F153)/3)*(1+Parâmetros!D11)*(1+Parâmetros!D14)","v":0},{"$f":"((E153+F153+G153)/3)*(1+Parâmetros!E11)*(1+Parâmetros!E14)","v":0},{"$f":"((F153+G153+H153)/3)*(1+Parâmetros!F11)*(1+Parâmetros!F14)","v":0}]
["3.3.XX.46.00.00.00","Auxílio - Alimentação",{"$f":"SUM(C155:C160)","v":4254797.7300000004},4605317.3599999994,4725800,4732427.0896833334,4875362.0758902226,4960855.2102050073,5040750.9540193835]
[null,"Auxílio - Alimentação - Poder Legislativo",6556.16,1056.17,22000,{"$f":"((C155+D155+E155)/3)*(1+Parâmetros!C11)*(1+Parâmetros!C14)","v":10314.961616666666},{"$f":"((D155+E155+F155)/3)*(1+Parâmetros!D11)*(1+Parâmetros!D14)","v":11568.658960444445},{"$f":"((E155+F155+G155)/3)*(1+Parâmetros!E11)*(1+Parâmetros!E14)","v":15188.121081738156},{"$f":"((F155+G155+H155)/3)*(1+Parâmetros!F11)*(1+Parâmetros!F14)","v":12826.822613961847}]
[null,"Auxílio - Alimentação - Saúde",656254.4,{"$f":"747554.12","v":747554.12},740000,{"$f":"((C156+D156+E156)/3)*(1+Parâmetros!C11)*(1+Parâmetros!C14)","v":746759.96779999987},{"$f":"((D156+E156+F156)/3)*(1+Parâmetros!D11)*(1+Parâmetros!D14)","v":774562.21710400004},{"$f":"((E156+F156+G156)/3)*(1+Parâmetros!E11)*(1+Parâmetros!E14)","v":782643.60819527437},{"$f":"((F156+G156+H156)/3)*(1+Parâmetros!F11)*(1+Parâmetros!F14)","v":797172.16441234888}]
[null,"Auxílio - Alimentação - Educação",2775479.13,2953640.26,{"$f":"70000+260000+40000+890000+1690000","v":2950000},{"$f":"((C157+D157+E157)/3)*(1+Parâmetros!C11)*(1+Parâmetros!C14)","v":3023226.5875166669},{"$f":"((D157+E157+F157)/3)*(1+Parâmetros!D11)*(1+Parâmetros!D14)","v":3094647.1738057779},{"$f":"((E157+F157+G157)/3)*(1+Parâmetros!E11)*(1+Parâmetros!E14)","v":3138391.1087936983},{"$f":"((F157+G157+H157)/3)*(1+Parâmetros!F11)*(1+Parâmetros!F14)","v":3202667.6450601858}]
[null,"Auxílio - Alimentação - Assist. Social",28854.21,26812.36,{"$f":"50000+28000","v":78000},{"$f":"((C158+D158+E158)/3)*(1+Parâmetros!C11)*(1+Parâmetros!C14)","v":46560.521883333335},{"$f":"((D158+E158+F158)/3)*(1+Parâmetros!D11)*(1+Parâmetros!D14)","v":52475.932386222223},{"$f":"((E158+F158+G158)/3)*(1+Parâmetros!E11)*(1+Parâmetros!E14)","v":61272.316822693181},{"$f":"((F158+G158+H158)/3)*(1+Parâmetros!F11)*(1+Parâmetros!F14)","v":55466.834797918062}]
[null,"Auxílio - Alimentação - Do Rpps",null,null,null,{"$f":"((C159+D159+E159)/3)*(1+Parâmetros!C11)*(1+Parâmetros!C14)","v":0},{"$f":"((D159+E159+F159)/3)*(1+Parâmetros!D11)*(1+Parâmetros!D14)","v":0},{"$f":"((E159+F159+G159)/3)*(1+Parâmetros!E11)*(1+Parâmetros!E14)","v":0},{"$f":"((F159+G159+H159)/3)*(1+Parâmetros!F11)*(1+Parâmetros!F14)","v":0}]
[null,"Auxílio - Alimentação - Demais Áreas",{"$f":"4254797.73-3467143.9","v":787653.83000000054},{"$f":"4605317.36-3729062.91","v":876254.45000000019},{"$f":"125000+117800+10000+50000+115000+89000+260000+60000+41000+50000+18000","v":935800},{"$f":"((C160+D160+E160)/3)*(1+Parâmetros!C11)*(1+Parâmetros!C14)","v":905565.05086666683},{"$f":"((D160+E160+F160)/3)*(1+Parâmetros!D11)*(1+Parâmetros!D14)","v":942108.09363377793},{"$f":"((E160+F160+G160)/3)*(1+Parâmetros!E11)*(1+Parâmetros!E14)","v":963360.05531160394},{"$f":"((F160+G160+H160)/3)*(1+Parâmetros!F11)*(1+Parâmetros!F14)","v":972617.48713496886},null,""]
["3.3.XX.47.00.00.00","Obrigações Tributárias e Contributivas",{"$f":"SUM(C162:C167)","v":1566064.17},1723424.59,2430700,1992532.4180666667,2130841.0961297778,2268364.8432633891,2211541.4716811026]
[null,"Obrigações Tributárias e Contributivas - Poder Legislativo",null,250,2000,{"$f":"((C162+D162+E162)/3)*(1+Parâmetros!C11)","v":783.75},{"$f":"((D162+E162+F162)/3)*(1+Parâmetros!D11)","v":1051.7},{"$f":"((E162+F162+G162)/3)*(1+Parâmetros!E11)","v":1327.449245},{"$f":"((F162+G162+H162)/3)*(1+Parâmetros!F11)","v":1094.36313877}]
[null,"Obrigações Tributárias e Contributivas - Saúde",180.18,null,null,{"$f":"((C163+D163+E163)/3)*(1+Parâmetros!C11)","v":62.762699999999995},{"$f":"((D163+E163+F163)/3)*(1+Parâmetros!D11)","v":21.757736000000001},{"$f":"((E163+F163+G163)/3)*(1+Parâmetros!E11)","v":29.252522899599999},{"$f":"((F163+G163+H163)/3)*(1+Parâmetros!F11)","v":39.365443779261597}]
[null,"Obrigações Tributárias e Contributivas - Educação",1118.5,4186.3500000000004,null,{"$f":"((C164+D164+E164)/3)*(1+Parâmetros!C11)","v":1847.8560833333333},{"$f":"((D164+E164+F164)/3)*(1+Parâmetros!D11)","v":2091.8581088888891},{"$f":"((E164+F164+G164)/3)*(1+Parâmetros!E11)","v":1363.5350819281111},{"$f":"((F164+G164+H164)/3)*(1+Parâmetros!F11)","v":1834.9242488560155}]
[null,"Obrigações Tributárias e Contributivas - Assist. Social",320,null,null,{"$f":"((C165+D165+E165)/3)*(1+Parâmetros!C11)","v":111.46666666666667},{"$f":"((D165+E165+F165)/3)*(1+Parâmetros!D11)","v":38.641777777777783},{"$f":"((E165+F165+G165)/3)*(1+Parâmetros!E11)","v":51.952532622222222},{"$f":"((F165+G165+H165)/3)*(1+Parâmetros!F11)","v":69.913098065066677}]
[null,"Obrigações Tributárias e Contributivas - do RPPS",null,null,null,{"$f":"((C166+D166+E166)/3)*(1+Parâmetros!C11)","v":0},{"$f":"((D166+E166+F166)/3)*(1+Parâmetros!D11)","v":0},{"$f":"((E166+F166+G166)/3)*(1+Parâmetros!E11)","v":0},{"$f":"((F166+G166+H166)/3)*(1+Parâmetros!F11)","v":0}]
[null,"Obrigações Tributárias e Contributivas -Demais Áreas",{"$f":"1566064.17-1618.68","v":1564445.49},{"$f":"1723424.59-4436.35","v":1718988.24},2428700,{"$f":"((C167+D167+E167)/3)*(1+Parâmetros!C11)","v":1989726.5826166668},{"$f":"((D167+E167+F167)/3)*(1+Parâmetros!D11)","v":2127637.138507111},{"$f":"((E167+F167+G167)/3)*(1+Parâmetros!E11)","v":2265592.6538809394},{"$f":"((F167+G167+H167)/3)*(1+Parâmetros!F11)","v":2208502.9057516325}]
["3.3.XX.91.00.00.00","Sentenças Judiciais  (Exceto Precatórios de Pessoal)",{"$f":"SUM(C169:C174)","v":567040.16},543757.32999999996,888800,696526.45901666663,738082.38019244443,804131.79925027327,774604.26090694696]
[null,"Sentenças Judiciais - Poder Legislativo",null,null,null,{"$f":"((C169+D169+E169)/3)*(1+Parâmetros!C11)","v":0},{"$f":"((D169+E169+F169)/3)*(1+Parâmetros!D11)","v":0},{"$f":"((E169+F169+G169)/3)*(1+Parâmetros!E11)","v":0},{"$f":"((F169+G169+H169)/3)*(1+Parâmetros!F11)","v":0}]
[null,"Sentenças Judiciais - Saúde",554694.05000000005,519364.47,{"$f":"56800+283000","v":339800},{"$f":"((C170+D170+E170)/3)*(1+Parâmetros!C11)","v":492494.0511333333},{"$f":"((D170+E170+F170)/3)*(1+Parâmetros!D11)","v":468574.95399288886},{"$f":"((E170+F170+G170)/3)*(1+Parâmetros!E11)","v":450230.76267418545},{"$f":"((F170+G170+H170)/3)*(1+Parâmetros!F11)","v":488309.71965894103}]
[null,"Sentenças Judiciais - Educação",null,null,null,{"$f":"((C171+D171+E171)/3)*(1+Parâmetros!C11)","v":0},{"$f":"((D171+E171+F171)/3)*(1+Parâmetros!D11)","v":0},{"$f":"((E171+F171+G171)/3)*(1+Parâmetros!E11)","v":0},{"$f":"((F171+G171+H171)/3)*(1+Parâmetros!F11)","v":0}]
[null,"Sentenças Judiciais - Assist. Social",null,null,null,{"$f":"((C172+D172+E172)/3)*(1+Parâmetros!C11)","v":0},{"$f":"((D172+E172+F172)/3)*(1+Parâmetros!D11)","v":0},{"$f":"((E172+F172+G172)/3)*(1+Parâmetros!E11)","v":0},{"$f":"((F172+G172+H172)/3)*(1+Parâmetros!F11)","v":0}]
[null,"Sentenças Judiciais - Do RPPS",null,null,null,{"$f":"((C173+D173+E173)/3)*(1+Parâmetros!C11)","v":0},{"$f":"((D173+E173+F173)/3)*(1+Parâmetros!D11)","v":0},{"$f":"((E173+F173+G173)/3)*(1+Parâmetros!E11)","v":0},{"$f":"((F173+G173+H173)/3)*(1+Parâmetros!F11)","v":0}]
[null,"Sentenças Judiciais - Demais Áreas",{"$f":"567040.16-554694.05","v":12346.109999999986},{"$f":"543757.33-519364.47","v":24392.859999999986},{"$f":"150000+399000","v":549000},{"$f":"((C174+D174+E174)/3)*(1+Parâmetros!C11)","v":204032.40788333333},{"$f":"((D174+E174+F174)/3)*(1+Parâmetros!D11)","v":269507.42619955557},{"$f":"((E174+F174+G174)/3)*(1+Parâmetros!E11)","v":353901.03657608788},{"$f":"((F174+G174+H174)/3)*(1+Parâmetros!F11)","v":286294.54124800593}]
["3.3.XX.93.00.00.00","Indenizações e Restituições",{"$f":"SUM(C176:C181)","v":57471.33},74700.47,105540,82802.943666666673,91188.383404444452,96745.79229931155,93675.043302166247]
[null,"Indenizações e Restituições - Poder Legislativo",null,null,null,{"$f":"((C176+D176+E176)/3)*(1+Parâmetros!C11)","v":0},{"$f":"((D176+E176+F176)/3)*(1+Parâmetros!D11)","v":0},{"$f":"((E176+F176+G176)/3)*(1+Parâmetros!E11)","v":0},{"$f":"((F176+G176+H176)/3)*(1+Parâmetros!F11)","v":0}]
[null,"Indenizações e Restituições - Saúde",57471.33,57312.32,{"$f":"92240+1800","v":94040},{"$f":"((C177+D177+E177)/3)*(1+Parâmetros!C11)","v":72740.23808333333},{"$f":"((D177+E177+F177)/3)*(1+Parâmetros!D11)","v":77685.420135555571},{"$f":"((E177+F177+G177)/3)*(1+Parâmetros!E11)","v":84609.564309557449},{"$f":"((F177+G177+H177)/3)*(1+Parâmetros!F11)","v":81322.186994842443}]
[null,"Indenizações e Restituições - Educação",null,null,null,{"$f":"((C178+D178+E178)/3)*(1+Parâmetros!C11)","v":0},{"$f":"((D178+E178+F178)/3)*(1+Parâmetros!D11)","v":0},{"$f":"((E178+F178+G178)/3)*(1+Parâmetros!E11)","v":0},{"$f":"((F178+G178+H178)/3)*(1+Parâmetros!F11)","v":0}]
[null,"Indenizações e Restituições - Assist. Social",null,null,null,{"$f":"((C179+D179+E179)/3)*(1+Parâmetros!C11)","v":0},{"$f":"((D179+E179+F179)/3)*(1+Parâmetros!D11)","v":0},{"$f":"((E179+F179+G179)/3)*(1+Parâmetros!E11)","v":0},{"$f":"((F179+G179+H179)/3)*(1+Parâmetros!F11)","v":0}]
[null,"Indenizações e Restituições - Do RPPS",null,350,null,{"$f":"((C180+D180+E180)/3)*(1+Parâmetros!C11)","v":121.91666666666666},{"$f":"((D180+E180+F180)/3)*(1+Parâmetros!D11)","v":163.59777777777776},{"$f":"((E180+F180+G180)/3)*(1+Parâmetros!E11)","v":98.816549222222207},{"$f":"((F180+G180+H180)/3)*(1+Parâmetros!F11)","v":132.97852380866664}]
[null,"Indenizações e Restituições - Demais Áreas",null,{"$f":"74700.47-57662.32","v":17038.150000000001},{"$f":"105540-94040","v":11500},{"$f":"((C181+D181+E181)/3)*(1+Parâmetros!C11)","v":9940.7889166666664},{"$f":"((D181+E181+F181)/3)*(1+Parâmetros!D11)","v":13339.365491111112},{"$f":"((E181+F181+G181)/3)*(1+Parâmetros!E11)","v":12037.411440531889},{"$f":"((F181+G181+H181)/3)*(1+Parâmetros!F11)","v":12219.877783515147}]
["4.4.XX.93.00.00.00","Indenizações e Restituições",{"$f":"SUM(C183:C188)","v":0},383549.07999999996,0,133602.92953333331,179279.36330488886,108288.5615513087,145725.11561877767]
[null,"Indenizações e Restituições - Poder Legislativo",null,null,null,{"$f":"((C183+D183+E183)/3)*(1+Parâmetros!C11)","v":0},{"$f":"((D183+E183+F183)/3)*(1+Parâmetros!D11)","v":0},{"$f":"((E183+F183+G183)/3)*(1+Parâmetros!E11)","v":0},{"$f":"((F183+G183+H183)/3)*(1+Parâmetros!F11)","v":0}]
[null,"Indenizações e Restituições - Saúde",null,null,null,{"$f":"((C184+D184+E184)/3)*(1+Parâmetros!C11)","v":0},{"$f":"((D184+E184+F184)/3)*(1+Parâmetros!D11)","v":0},{"$f":"((E184+F184+G184)/3)*(1+Parâmetros!E11)","v":0},{"$f":"((F184+G184+H184)/3)*(1+Parâmetros!F11)","v":0}]
[null,"Indenizações e Restituições - Educação",null,null,null,{"$f":"((C185+D185+E185)/3)*(1+Parâmetros!C11)","v":0},{"$f":"((D185+E185+F185)/3)*(1+Parâmetros!D11)","v":0},{"$f":"((E185+F185+G185)/3)*(1+Parâmetros!E11)","v":0},{"$f":"((F185+G185+H185)/3)*(1+Parâmetros!F11)","v":0}]
[null,"Indenizações e Restituições - Assist. Social",null,null,null,{"$f":"((C186+D186+E186)/3)*(1+Parâmetros!C11)","v":0},{"$f":"((D186+E186+F186)/3)*(1+Parâmetros!D11)","v":0},{"$f":"((E186+F186+G186)/3)*(1+Parâmetros!E11)","v":0},{"$f":"((F186+G186+H186)/3)*(1+Parâmetros!F11)","v":0}]
[null,"Indenizações e Restituições - Do RPPS",null,null,null,{"$f":"((C187+D187+E187)/3)*(1+Parâmetros!C11)","v":0},{"$f":"((D187+E187+F187)/3)*(1+Parâmetros!D11)","v":0},{"$f":"((E187+F187+G187)/3)*(1+Parâmetros!E11)","v":0},{"$f":"((F187+G187+H187)/3)*(1+Parâmetros!F11)","v":0}]
[null,"Indenizações e Restituições - Demais Áreas",null,{"$f":"169567.46+213981.62","v":383549.07999999996},null,{"$f":"((C188+D188+E188)/3)*(1+Parâmetros!C11)","v":133602.92953333331},{"$f":"((D188+E188+F188)/3)*(1+Parâmetros!D11)","v":179279.36330488886},{"$f":"((E188+F188+G188)/3)*(1+Parâmetros!E11)","v":108288.5615513087},{"$f":"((F188+G188+H188)/3)*(1+Parâmetros!F11)","v":145725.11561877767}]
["4.6.00.00.00.00.00","Amortização da Dívida",{"$f":"SUM(C190:C195)","v":337500},337500,0,225000,187500,137500,183333.33333333334]
[null,"Amortização da Dívida - Poder Legislativo",null,null,null,{"$f":"((C190+D190+E190)/3)","v":0},0,0,0]
[null,"Amortização da Dívida - Saúde",null,null,null,0,0,0,0]
[null,"Amortização da Dívida - Educação",null,null,null,0,0,0,0]
[null,"Amortização da Dívida - Assist. Social",null,null,null,0,0,0,0]
[null,"Amortização da Dívida - Do RPPS",null,null,null,0,0,0,0]
[null,"Amortização da Dívida - Demais Áreas",337500,337500,null,225000,187500,137500,183333.33333333334]
[null,"TOTAL DAS DESPESAS  FIXAS /  OBRIGATÓRIAS",{"$f":"C133+C140+C147+C154+C161+C168+C175+C182+C189","v":66383495.569999993},73914710.799999982,76113440,77759948.169609591,82173602.81251438,85168659.345354348,88421158.201606348]
[null,"Operação de Crédito Externo"]
[null,"RESULTADOS ","REALIZADO",{"$f":"IF(#REF!>0,\"REALIZADO\",\"PROJETADO\")","v":{"$error":"#REF!"}},{"$f":"IF(#REF!>0,\"REALIZADO\",\"PROJETADO\")","v":{"$error":"#REF!"}},{"$f":"IF(#REF!>0,\"REALIZADO\",\"PROJETADO\")","v":{"$error":"#REF!"}},"PROJETADO",null,"PROJETADO"]
[null,"FISCAIS",1999,2000,2001,2002,2003,null,2004]
[]
[null,"1. RECEITA CORRENTE LÍQUIDA",{"$f":"C8-#REF!-C11+C205-#REF!","v":{"$error":"#REF!"}},{"$f":"D8-#REF!-D11+D205-#REF!","v":{"$error":"#REF!"}},{"$f":"E8-#REF!-E11+E205-#REF!","v":{"$error":"#REF!"}},{"$f":"F8-#REF!-F11+F205-#REF!","v":{"$error":"#REF!"}},{"$f":"G8-#REF!-G11+G205-#REF!","v":{"$error":"#REF!"}},null,{"$f":"I8-#REF!-I11+I205-#REF!","v":{"$error":"#REF!"}}]
[null,"2. RECEITAS DE TRIBUTOS",{"$f":"C9","v":25972856.52},{"$f":"D9","v":28922693.32},{"$f":"E9","v":30201000},{"$f":"F9","v":31361198.822867464},{"$f":"G9","v":33193719.126735218},null,{"$f":"I9","v":36367341.563891113}]
[null,"3. RECEITAS FINANCEIRAS",{"$f":"C16+#REF!+C17+#REF!+#REF!+#REF!+#REF!","v":{"$error":"#REF!"}},{"$f":"D16+#REF!+D17+#REF!+#REF!+#REF!+#REF!","v":{"$error":"#REF!"}},{"$f":"E16+#REF!+E17+#REF!+#REF!+#REF!+#REF!","v":{"$error":"#REF!"}},{"$f":"F16+#REF!+F17+#REF!+#REF!+#REF!+#REF!","v":{"$error":"#REF!"}},{"$f":"G16+#REF!+G17+#REF!+#REF!+#REF!+#REF!","v":{"$error":"#REF!"}},null,{"$f":"I16+#REF!+I17+#REF!+#REF!+#REF!+#REF!","v":{"$error":"#REF!"}}]
[null,"4. RENÚNCIA FISCAL",{"$f":"#REF!","v":{"$error":"#REF!"}},{"$f":"#REF!","v":{"$error":"#REF!"}},{"$f":"#REF!","v":{"$error":"#REF!"}},{"$f":"#REF!","v":{"$error":"#REF!"}},{"$f":"#REF!","v":{"$error":"#REF!"}},null,{"$f":"#REF!","v":{"$error":"#REF!"}}]
[null,"5. VALOR LÍQUIDO DO FUNDEF",{"$f":"#REF!-#REF!","v":{"$error":"#REF!"}},{"$f":"#REF!-#REF!","v":{"$error":"#REF!"}},{"$f":"#REF!-#REF!","v":{"$error":"#REF!"}},{"$f":"#REF!-#REF!","v":{"$error":"#REF!"}},{"$f":"#REF!-#REF!","v":{"$error":"#REF!"}},null,{"$f":"#REF!-#REF!","v":{"$error":"#REF!"}}]
[null,"6. TRANSFERÊNCIAS DA UNIÃO",{"$f":"#REF!","v":{"$error":"#REF!"}},{"$f":"#REF!","v":{"$error":"#REF!"}},{"$f":"#REF!","v":{"$error":"#REF!"}},{"$f":"#REF!","v":{"$error":"#REF!"}},{"$f":"#REF!","v":{"$error":"#REF!"}},null,{"$f":"#REF!","v":{"$error":"#REF!"}}]
[null,"7. TRANSFERÊNCIAS DOS ESTADOS",{"$f":"#REF!","v":{"$error":"#REF!"}},{"$f":"#REF!","v":{"$error":"#REF!"}},{"$f":"#REF!","v":{"$error":"#REF!"}},{"$f":"#REF!","v":{"$error":"#REF!"}},{"$f":"#REF!","v":{"$error":"#REF!"}},null,{"$f":"#REF!","v":{"$error":"#REF!"}}]
[null,"8. OPERAÇÕES DE CRÉDITO",{"$f":"#REF!","v":{"$error":"#REF!"}},{"$f":"#REF!","v":{"$error":"#REF!"}},{"$f":"#REF!","v":{"$error":"#REF!"}},{"$f":"#REF!","v":{"$error":"#REF!"}},{"$f":"#REF!","v":{"$error":"#REF!"}},null,{"$f":"#REF!","v":{"$error":"#REF!"}}]
[null,"9. AROS",{"$f":"#REF!","v":{"$error":"#REF!"}},{"$f":"#REF!","v":{"$error":"#REF!"}},{"$f":"#REF!","v":{"$error":"#REF!"}},{"$f":"#REF!","v":{"$error":"#REF!"}},{"$f":"#REF!","v":{"$error":"#REF!"}},null,{"$f":"#REF!","v":{"$error":"#REF!"}}]
[null,"10. PESSOAL ATIVO",{"$f":"#REF!+#REF!+#REF!+#REF!+C162+#REF!+#REF!+C196+C140+#REF!","v":{"$error":"#REF!"}},{"$f":"#REF!+#REF!+#REF!+#REF!+D162+#REF!+#REF!+D196+D140+#REF!","v":{"$error":"#REF!"}},{"$f":"#REF!+#REF!+#REF!+#REF!+E162+#REF!+#REF!+E196+E140+#REF!","v":{"$error":"#REF!"}},{"$f":"#REF!+#REF!+#REF!+#REF!+F162+#REF!+#REF!+F196+F140+#REF!","v":{"$error":"#REF!"}},{"$f":"#REF!+#REF!+#REF!+#REF!+G162+#REF!+#REF!+G196+G140+#REF!","v":{"$error":"#REF!"}},null,{"$f":"#REF!+#REF!+#REF!+#REF!+I162+#REF!+#REF!+I196+I140+#REF!","v":{"$error":"#REF!"}}]
[null,"11. PESSOAL INATIVO",{"$f":"#REF!+#REF!","v":{"$error":"#REF!"}},{"$f":"#REF!+#REF!","v":{"$error":"#REF!"}},{"$f":"#REF!+#REF!","v":{"$error":"#REF!"}},{"$f":"#REF!+#REF!","v":{"$error":"#REF!"}},{"$f":"#REF!+#REF!","v":{"$error":"#REF!"}},null,{"$f":"#REF!+#REF!","v":{"$error":"#REF!"}}]
[null,"12. PENSIONISTAS",{"$f":"#REF!+#REF!","v":{"$error":"#REF!"}},{"$f":"#REF!+#REF!","v":{"$error":"#REF!"}},{"$f":"#REF!+#REF!","v":{"$error":"#REF!"}},{"$f":"#REF!+#REF!","v":{"$error":"#REF!"}},{"$f":"#REF!+#REF!","v":{"$error":"#REF!"}},null,{"$f":"#REF!+#REF!","v":{"$error":"#REF!"}}]
[null,"13. SERVIÇOS DE TERCEIROS",{"$f":"#REF!","v":{"$error":"#REF!"}},{"$f":"#REF!","v":{"$error":"#REF!"}},{"$f":"#REF!","v":{"$error":"#REF!"}},{"$f":"#REF!","v":{"$error":"#REF!"}},{"$f":"#REF!","v":{"$error":"#REF!"}},null,{"$f":"#REF!","v":{"$error":"#REF!"}}]
[null,"14. OUTROS CUSTEIOS CORRENTES",{"$f":"C145+#REF!+#REF!+#REF!+#REF!+#REF!+#REF!","v":{"$error":"#REF!"}},{"$f":"D145+#REF!+#REF!+#REF!+#REF!+#REF!+#REF!","v":{"$error":"#REF!"}},{"$f":"E145+#REF!+#REF!+#REF!+#REF!+#REF!+#REF!","v":{"$error":"#REF!"}},{"$f":"F145+#REF!+#REF!+#REF!+#REF!+#REF!+#REF!","v":{"$error":"#REF!"}},{"$f":"G145+#REF!+#REF!+#REF!+#REF!+#REF!+#REF!","v":{"$error":"#REF!"}},null,{"$f":"I145+#REF!+#REF!+#REF!+#REF!+#REF!+#REF!","v":{"$error":"#REF!"}}]
[null,"15. INVESTIMENTOS",{"$f":"#REF!","v":{"$error":"#REF!"}},{"$f":"#REF!","v":{"$error":"#REF!"}},{"$f":"#REF!","v":{"$error":"#REF!"}},{"$f":"#REF!","v":{"$error":"#REF!"}},{"$f":"#REF!","v":{"$error":"#REF!"}},null,{"$f":"#REF!","v":{"$error":"#REF!"}}]
[null,"16. ENCARGOS DA DÍVIDA",{"$f":"#REF!+#REF!","v":{"$error":"#REF!"}},{"$f":"#REF!+#REF!","v":{"$error":"#REF!"}},{"$f":"#REF!+#REF!","v":{"$error":"#REF!"}},{"$f":"#REF!+#REF!","v":{"$error":"#REF!"}},{"$f":"#REF!+#REF!","v":{"$error":"#REF!"}},null,{"$f":"#REF!+#REF!","v":{"$error":"#REF!"}}]
[null,"17. AMORTIZAÇÕES DA DÍVIDA",{"$f":"#REF!+#REF!","v":{"$error":"#REF!"}},{"$f":"#REF!+#REF!","v":{"$error":"#REF!"}},{"$f":"#REF!+#REF!","v":{"$error":"#REF!"}},{"$f":"#REF!+#REF!","v":{"$error":"#REF!"}},{"$f":"#REF!+#REF!","v":{"$error":"#REF!"}},null,{"$f":"#REF!+#REF!","v":{"$error":"#REF!"}}]
[null,"18. DESPESAS FINANCEIRAS",{"$f":"C216+C217","v":{"$error":"#REF!"}},{"$f":"D216+D217","v":{"$error":"#REF!"}},{"$error":"#REF!"},{"$error":"#REF!"},{"$error":"#REF!"},null,{"$error":"#REF!"}]
[null,"19. RESULTADO PRIMÁRIO",{"$f":" ((C8+#REF!)-(C203)-((#REF!+#REF!)-C218))","v":{"$error":"#REF!"}},{"$f":" ((D8+#REF!)-(D203)-((#REF!+#REF!)-D218))","v":{"$error":"#REF!"}},{"$f":" ((E8+#REF!)-(E203)-((#REF!+#REF!)-E218))","v":{"$error":"#REF!"}},{"$f":" ((F8+#REF!)-(F203)-((#REF!+#REF!)-F218))","v":{"$error":"#REF!"}},{"$f":" ((G8+#REF!)-(G203)-((#REF!+#REF!)-G218))","v":{"$error":"#REF!"}},null,{"$f":" ((I8+#REF!)-(I203)-((#REF!+#REF!)-I218))","v":{"$error":"#REF!"}}]
[null,"20. RESULTADO NOMINAL",{"$f":"-(C219-(C216-C16-#REF!-C17-#REF!))","v":{"$error":"#REF!"}},{"$f":"-(D219-(D216-D16-#REF!-D17-#REF!))","v":{"$error":"#REF!"}},{"$f":"-(E219-(E216-E16-#REF!-E17-#REF!))","v":{"$error":"#REF!"}},{"$f":"-(F219-(F216-F16-#REF!-F17-#REF!))","v":{"$error":"#REF!"}},{"$f":"-(G219-(G216-G16-#REF!-G17-#REF!))","v":{"$error":"#REF!"}},null,{"$f":"-(I219-(I216-I16-#REF!-I17-#REF!))","v":{"$error":"#REF!"}}]
[]
["* Os valores de 2023 e 2024 foram os executados efetivamente."]
["* Para estimativa do valor de 2025 foi utlizado os valores projetos na Loa 2025."]

{"sheet":"RCL","index":2,"n_rows":14,"n_cols":5,"rows_kept":14,"cut":false,"hidden":false,"merged":[[0,0,0,4],[1,0,1,4],[2,0,2,4],[3,0,3,4]]}
[{"$f":"Parâmetros!A7","v":"Município de :  "}]
[{"$f":"Parâmetros!A8","v":"PLANO PLURIANUAL 2026 - 2029"}]
["Tabela 02 - Estimativas para a Receita Corrente Líquida para fins dos Limites de Pessoal"]
[]
["ESPECIFICAÇÃO",{"$f":"Parâmetros!C10","v":2026},{"$f":"B5+1","v":2027},{"$f":"C5+1","v":2028},{"$f":"D5+1","v":2029}]
["I - RECEITAS CORRENTES (Exceto Intraorçamentárias)",{"$f":"Projeções!F8","v":181660204.62313262},{"$f":"Projeções!G8","v":187299488.8268362},{"$f":"Projeções!H8","v":191303013.09178934},{"$f":"Projeções!I8","v":180664493.64996257}]
["II - DEDUÇÕES",{"$f":"SUM(B8:B13)","v":35695088.373564653},{"$f":"SUM(C8:C13)","v":36047177.319515526},{"$f":"SUM(D8:D13)","v":37457414.32782647},{"$f":"SUM(E8:E13)","v":37940458.036921598}]
["Contribuições Previdenciárias do Regime Próprio",{"$f":"Projeções!F14","v":5141655.054336952},{"$f":"Projeções!G14","v":5263249.1881144186},{"$f":"Projeções!H14","v":5705652.1381179616},{"$f":"Projeções!I14","v":5840068.5424590781}]
["Compensação Financeira entre Regimes",{"$f":"Projeções!F80","v":531390.89593333309},{"$f":"Projeções!G80","v":737936.44472355582},{"$f":"Projeções!H80","v":550066.1926013492},{"$f":"Projeções!I80","v":629510.16250735044}]
["Rendimentos de Aplicações de Rec.Previdenciários",{"$f":"Projeções!F28","v":15801983.495466666},{"$f":"Projeções!G28","v":15345910.373895112},{"$f":"Projeções!H28","v":16571854.24818611},{"$f":"Projeções!I28","v":16511032.84867157}]
["Deduções da Receita Corrente ",{"$f":"-(Projeções!F116+Projeções!F117+Projeções!F118)","v":14220058.927827701},{"$f":"-(Projeções!G116+Projeções!G117+Projeções!G118)","v":14700081.312782442},{"$f":"-(Projeções!H116+Projeções!H117+Projeções!H118)","v":14629841.748921048},{"$f":"-(Projeções!I116+Projeções!I117+Projeções!I118)","v":14959846.4832836}]
["  (-)  Recursos de Emendas Parlamentares Individuais (código de natureza  1.7.1.0.00.00.00 com complemento de vínculo 3110)",null,{"$f":"B12*(1+Parâmetros!D11)","v":0},{"$f":"C12*(1+Parâmetros!E11)","v":0},{"$f":"D12*(1+Parâmetros!F11)","v":0}]
["  (-)  Recursos de Emendas Parlamentares de Bancada (código de natureza  1.7.1.0.00.00.00 com complemento de vínculo 3120)",null,{"$f":"B13*(1+Parâmetros!D11)","v":0},{"$f":"C13*(1+Parâmetros!E11)","v":0},{"$f":"D13*(1+Parâmetros!F11)","v":0}]
["IV - RECEITA CORRENTE LÍQUIDA PARA FINS DO LIMITE DAS DESPESAS COM PESSOAL (I-II)",{"$f":"B6-B7","v":145965116.24956796},{"$f":"C6-C7","v":151252311.50732067},{"$f":"D6-D7","v":153845598.76396286},{"$f":"E6-E7","v":142724035.61304098}]

{"sheet":"Pessoal","index":3,"n_rows":17,"n_cols":5,"rows_kept":17,"cut":false,"hidden":false,"merged":[[12,1,12,4],[12,0,13,0],[0,0,0,3],[1,0,1,3],[4,0,5,0],[4,1,4,4],[9,0,9,4],[2,0,2,4]]}
[{"$f":"Parâmetros!A7","v":"Município de :  "}]
[{"$f":"Parâmetros!A8","v":"PLANO PLURIANUAL 2026 - 2029"}]
["Tabela 03 - Estimativa de Limites de Gastos com Pessoal do Poder Executivo e Legislativo"]
[]
["PODER EXECUTIVO"]
[null,{"$f":"RCL!B5","v":2026},{"$f":"RCL!C5","v":2027},{"$f":"RCL!D5","v":2028},{"$f":"RCL!E5","v":2029}]
["Limite Máximo Legal   -  54 % da  RCL (alínea “b” do inciso III do artigo 20 da LRF)",{"$f":"RCL!B14*0.54","v":78821162.774766698},{"$f":"RCL!C14*0.54","v":81676248.213953167},{"$f":"RCL!D14*0.54","v":83076623.332539946},{"$f":"RCL!E14*0.54","v":77070979.231042132}]
["Limite Prudencial - 51,30 % da RCL (parágrafo único do artigo 22 daLRF)",{"$f":"RCL!B14*0.513","v":74880104.636028364},{"$f":"RCL!C14*0.513","v":77592435.803255513},{"$f":"RCL!D14*0.513","v":78922792.165912956},{"$f":"RCL!E14*0.513","v":73217430.269490033}]
["Limite de Alerta - 48,60 % da RCL (inciso II do § 1º do artigo 59 da LRF)",{"$f":"RCL!B14*0.486","v":70939046.49729003},{"$f":"RCL!C14*0.486","v":73508623.392557845},{"$f":"RCL!D14*0.486","v":74768960.999285951},{"$f":"RCL!E14*0.486","v":69363881.30793792}]
[]
[]
[]
["PODER LEGISLATIVO "]
[null,{"$f":"RCL!B5","v":2026},{"$f":"RCL!C5","v":2027},{"$f":"RCL!D5","v":2028},{"$f":"RCL!E5","v":2029}]
["Limite Máximo Legal   -  6 % da  RCL (alínea “b” do inciso III do artigo 20 da LRF)",{"$f":"RCL!B14*0.06","v":8757906.9749740772},{"$f":"RCL!C14*0.06","v":9075138.6904392391},{"$f":"RCL!D14*0.06","v":9230735.925837772},{"$f":"RCL!E14*0.06","v":8563442.1367824581}]
["Limite Prudencial - 5,70 % da RCL (parágrafo único do artigo 22 daLRF)",{"$f":"RCL!B14*0.057","v":8320011.6262253737},{"$f":"RCL!C14*0.057","v":8621381.755917279},{"$f":"RCL!D14*0.057","v":8769199.1295458842},{"$f":"RCL!E14*0.057","v":8135270.0299433367}]
["Limite de Alerta -  5,40 % da RCL (inciso II do § 1º do artigo 59 da LRF)",{"$f":"RCL!B14*0.054","v":7882116.2774766693},{"$f":"RCL!C14*0.054","v":8167624.8213953162},{"$f":"RCL!D14*0.054","v":8307662.3332539946},{"$f":"RCL!E14*0.054","v":7707097.9231042126}]

{"sheet":"Câmara","index":4,"n_rows":40,"n_cols":5,"rows_kept":40,"cut":false,"hidden":false,"merged":[[0,0,0,4],[1,0,1,4],[2,0,2,4],[4,0,5,0],[4,1,4,4],[3,0,3,4],[5,1,6,1],[5,2,6,2],[5,3,6,3],[5,4,6,4]]}
[{"$f":"Parâmetros!A7","v":"Município de :  "}]
[{"$f":"Parâmetros!A8","v":"PLANO PLURIANUAL 2026 - 2029"}]
["Tabela 04 – Estimativa de Valores Máximos Disponíveis para as Diretrizes, Objetivos e Metas do  Poder Legislativo"]
[]
["RECEITA EFETIVAMENTE ARRECADADA ANO ANTERIOR","BASE DE CÁLCULO PARA O ANO DA DESPESA "]
[null,"2026 /2025","2027 / 2026","2028 / 2027","2029 / 2028"]
[]
["Receita de Impostos, Taxas e Contribuição de Melhorias ",{"$f":"Projeções!E9","v":30201000},{"$f":"Projeções!F9","v":31361198.822867464},{"$f":"Projeções!G9","v":33193719.126735218},{"$f":"Projeções!H9","v":34697134.548094228}]
["Contribuições dos Servidores para o Regime Próprio de Previdência",{"$f":"Projeções!E14","v":5330300},{"$f":"Projeções!F14","v":5141655.054336952},{"$f":"Projeções!G14","v":5263249.1881144186},{"$f":"Projeções!H14","v":5705652.1381179616}]
["Contribuições P/  Custeio da Iluminação Pública",{"$f":"Projeções!E18","v":0},{"$f":"Projeções!F18","v":0},{"$f":"Projeções!G18","v":0},{"$f":"Projeções!H18","v":0}]
["Transferências Constitucionais e Legais ",{"$f":"SUM(B12:B19)","v":73264550},{"$f":"SUM(C12:C19)","v":67895761.530599982},{"$f":"SUM(D12:D19)","v":71410361.833048016},{"$f":"SUM(E12:E19)","v":72686597.794500753}]
["FPM (Art.159, CF/1998)",{"$f":"Projeções!E40","v":38108000},{"$f":"Projeções!F40","v":35764596.091466658},{"$f":"Projeções!G40","v":37447148.966370218},{"$f":"Projeções!H40","v":38219779.136523999}]
["FPM Cotas Extras",{"$f":"Projeções!E41","v":4632000},{"$f":"Projeções!F41","v":3681703.8665333334},{"$f":"Projeções!G41","v":4101809.0280431113},{"$f":"Projeções!H41","v":4262659.4271379132}]
["ITR (Art.158, CF/1998)",{"$f":"Projeções!E42","v":6250},{"$f":"Projeções!F42","v":14212.805200000003},{"$f":"Projeções!G42","v":14934.500518666669},{"$f":"Projeções!H42","v":12153.074963408892}]
["ICMS (Art.158, CF/1998)",{"$f":"Projeções!E55","v":22353200},{"$f":"Projeções!F55","v":20006955.093800001},{"$f":"Projeções!G55","v":21221414.392492004},{"$f":"Projeções!H55","v":21617733.625339281}]
["IPVA (Art.158, CF/1998)",{"$f":"Projeções!E56","v":7559800},{"$f":"Projeções!F56","v":7665049.501600001},{"$f":"Projeções!G56","v":7972646.0843440006},{"$f":"Projeções!H56","v":7887148.4992209608}]
["IPI-EX (Art.159, CF/1998)",{"$f":"Projeções!E57","v":217700},{"$f":"Projeções!F57","v":214960.11079999999},{"$f":"Projeções!G57","v":233661.09707200003},{"$f":"Projeções!H57","v":226549.21067648003}]
["Cota Parte da  CIDE / Combustíveis",{"$f":"Projeções!E58","v":20000},{"$f":"Projeções!F58","v":18892.266600000003},{"$f":"Projeções!G58","v":23778.946044},{"$f":"Projeções!H58","v":21308.212298959999}]
["Transferência da Comp.Financeira das Perdas com Arrecadação de ICMS - LC nº 194/2022",{"$f":"Projeções!E66","v":367600},{"$f":"Projeções!F66","v":529391.79460000002},{"$f":"Projeções!G66","v":394968.81816399994},{"$f":"Projeções!H66","v":439266.60833975999}]
["Deduções das Receitas Correntes -  Exceto para o Fundeb (F)",{"$f":"Projeções!E116+Projeções!E118","v":0},{"$f":"Projeções!F116+Projeções!F118","v":-1381025.8483343665},{"$f":"Projeções!G116+Projeções!G118","v":-1243126.5409902653},{"$f":"Projeções!H116+Projeções!H118","v":-949315.71790827101}]
[]
["TOTAL DA RECEITA ARRECADADA NO ANO ANTERIOR  - RAEA ",{"$f":"B8+B9+B10+B11+B20","v":108795850},{"$f":"C8+C9+C10+C11+C20","v":103017589.55947003},{"$f":"D8+D9+D10+D11+D20","v":108624203.6069074},{"$f":"E8+E9+E10+E11+E20","v":112140068.76280467}]
[" "]
["Limite Percentual Estabelecido pelo Art. 29-A da Constituição da República",7.0000000000000007E-2]
["Limite da despesa para o ano"]
[{"$f":"CONCATENATE(\"Legislativo Total \",TEXT(B24,\"0,0%\"),\" da RAEA\")","v":"Legislativo Total 7,0% da RAEA"},{"$f":"+B22*$B$24","v":7615709.5000000009},{"$f":"+C22*$B$24","v":7211231.2691629026},{"$f":"+D22*$B$24","v":7603694.2524835188},{"$f":"+E22*$B$24","v":7849804.8133963281}]
["Legislativo: Folha de Pagamento = 70% do Limite Total",{"$f":"+B26*70%","v":5330996.6500000004},{"$f":"+C26*70%","v":5047861.8884140318},{"$f":"+D26*70%","v":5322585.9767384632},{"$f":"+E26*70%","v":5494863.3693774296}]
[]
["Estimativas de Gastos do Poder Legislativo",{"$f":"Parâmetros!C10","v":2026},{"$f":"B29+1","v":2027},{"$f":"C29+1","v":2028},{"$f":"D29+1","v":2029}]
[]
[{"$f":"Projeções!B133","v":"Pessoal e Encargos Sociais"},{"$f":"Projeções!F134","v":510263.83425995999},{"$f":"Projeções!G134","v":530335.39358755329},{"$f":"Projeções!H134","v":564144.50072794629},{"$f":"Projeções!I134","v":563680.99830443307}]
[{"$f":"Projeções!B140","v":"Juros e Encargos da Dívida"},{"$f":"Projeções!F141","v":0},{"$f":"Projeções!G141","v":0},{"$f":"Projeções!H141","v":0},{"$f":"Projeções!I141","v":0}]
[{"$f":"Projeções!B147","v":"Outros Benefícios Assistênciais do Servidor e do Militar"},{"$f":"Projeções!F148","v":0},{"$f":"Projeções!G148","v":0},{"$f":"Projeções!H148","v":0},{"$f":"Projeções!I148","v":0}]
[{"$f":"Projeções!B154","v":"Auxílio - Alimentação"},{"$f":"Projeções!F155","v":10314.961616666666},{"$f":"Projeções!G155","v":11568.658960444445},{"$f":"Projeções!H155","v":15188.121081738156},{"$f":"Projeções!I155","v":12826.822613961847}]
[{"$f":"Projeções!B161","v":"Obrigações Tributárias e Contributivas"},{"$f":"Projeções!F162","v":783.75},{"$f":"Projeções!G162","v":1051.7},{"$f":"Projeções!H162","v":1327.449245},{"$f":"Projeções!I162","v":1094.36313877}]
[{"$f":"Projeções!B168","v":"Sentenças Judiciais  (Exceto Precatórios de Pessoal)"},{"$f":"Projeções!F169","v":0},{"$f":"Projeções!G169","v":0},{"$f":"Projeções!H169","v":0},{"$f":"Projeções!I169","v":0}]
[{"$f":"Projeções!B175","v":"Indenizações e Restituições"},{"$f":"Projeções!F176+Projeções!F183","v":0},{"$f":"Projeções!G176+Projeções!G183","v":0},{"$f":"Projeções!H176+Projeções!H183","v":0},{"$f":"Projeções!I176+Projeções!I183","v":0}]
[{"$f":"Projeções!B189","v":"Amortização da Dívida"},{"$f":"Projeções!F190","v":0},{"$f":"Projeções!G190","v":0},{"$f":"Projeções!H190","v":0},{"$f":"Projeções!I190","v":0}]
["Subtotal - Gastos   Fixos /  Obrigatórios",{"$f":"B31+B32+B33+B34+B35+B36+B37+B38","v":521362.54587662662},{"$f":"C31+C32+C33+C34+C35+C36+C37+C38","v":542955.75254799775},{"$f":"D31+D32+D33+D34+D35+D36+D37+D38","v":580660.07105468446},{"$f":"E31+E32+E33+E34+E35+E36+E37+E38","v":577602.18405716494}]
[" Valor passível de alocação para demais diretrizes, objetivos e metas do Legislativo",{"$f":"B26-B39","v":7094346.9541233741},{"$f":"C26-C39","v":6668275.5166149046},{"$f":"D26-D39","v":7023034.1814288348},{"$f":"E26-E39","v":7272202.6293391632}]

{"sheet":"Educação","index":5,"n_rows":33,"n_cols":5,"rows_kept":33,"cut":false,"hidden":false,"merged":[[0,0,0,4],[1,0,1,4],[2,0,2,4],[4,1,4,4]]}
[{"$f":"Parâmetros!A7","v":"Município de :  "}]
[{"$f":"Parâmetros!A8","v":"PLANO PLURIANUAL 2026 - 2029"}]
["Tabela 05 – Estimativa de Valores Disponíveis para as Diretrizes, Objetivos e Metas a serem Financiados com Recursos vinculados à Educação"]
[]
["DISCRIMINAÇÃO"]
["RECEITA",{"$f":"Parâmetros!C10","v":2026},{"$f":"B6+1","v":2027},{"$f":"C6+1","v":2028},{"$f":"D6+1","v":2029}]
["IMPOSTOS PRÓPRIOS",{"$f":"Projeções!F9","v":31361198.822867464},{"$f":"Projeções!G9","v":33193719.126735218},{"$f":"Projeções!H9","v":34697134.548094228},{"$f":"Projeções!I9","v":36367341.563891113}]
["TRANSFERÊNCIAS CONSTITUCIONAIS DA UNIÃO ",{"$f":"Projeções!F40+Projeções!F41+Projeções!F42","v":39460512.763199992},{"$f":"Projeções!G40+Projeções!G41+Projeções!G42","v":41563892.494931996},{"$f":"Projeções!H40+Projeções!H41+Projeções!H42","v":42494591.638625316},{"$f":"Projeções!I40+Projeções!I41+Projeções!I42","v":42408188.934553348}]
["TRANSFERÊNCIAS CONSTITUCIONAIS DO ESTADO ",{"$f":"Projeções!F55+Projeções!F56+Projeções!F57+Projeções!F66","v":28416356.500800002},{"$f":"Projeções!G55+Projeções!G56+Projeções!G57+Projeções!G66","v":29822690.392072003},{"$f":"Projeções!H55+Projeções!H56+Projeções!H57+Projeções!H66","v":30170697.943576481},{"$f":"Projeções!I55+Projeções!I56+Projeções!I57+Projeções!I66","v":30059313.244392488}]
["(-)  Dedução das Receitas de Impostos ",{"$f":"Projeções!F116","v":-1076599.7923343666},{"$f":"Projeções!G116","v":-970674.56344359869},{"$f":"Projeções!H116","v":-749658.23049776966},{"$f":"Projeções!I116","v":-1024835.256667637}]
[]
["A APLICAR  PARA FINS DO ART. 212  DA CONSTITUIÇÃO  - (25%)",{"$f":"(SUM(B7:B11))*0.25","v":24540367.073633272},{"$f":"(SUM(C7:C11))*0.25","v":25902406.862573903},{"$f":"(SUM(D7:D11))*0.25","v":26653191.474949565},{"$f":"(SUM(E7:E11))*0.25","v":26952502.121542327}]
[]
["Rendimentos de Aplicações Financeiras  (MDE, Fundeb e demais vinculações)",{"$f":"Projeções!F22","v":458538.44116666663},{"$f":"Projeções!G22","v":484149.1966711111},{"$f":"Projeções!H22","v":461935.39145565481},{"$f":"Projeções!I22","v":485999.56813552766}]
["Transferências de Recursos do FNDE - Correntes e de Capital",{"$f":"Projeções!F45+Projeções!F88","v":2764040.6201333334},{"$f":"Projeções!G45+Projeções!G88","v":2668039.264712444},{"$f":"Projeções!H45+Projeções!H88","v":2627330.7604637165},{"$f":"Projeções!I45+Projeções!I88","v":2766075.4326673709}]
["Transf. De Convenios Federais  - Correntes e de Capital",{"$f":"Projeções!F50+Projeções!F91","v":0},{"$f":"Projeções!G50+Projeções!G91","v":0},{"$f":"Projeções!H50+Projeções!H91","v":0},{"$f":"Projeções!I50+Projeções!I91","v":0}]
["Transf. De Convenios Estaduais - Correntes e de Capital",{"$f":"Projeções!F62+Projeções!F97","v":84658.666666666672},{"$f":"Projeções!G62+Projeções!G97","v":73766.755555555559},{"$f":"Projeções!H62+Projeções!H97","v":75475.140740740753},{"$f":"Projeções!I62+Projeções!I97","v":77966.854320987666}]
["Demais Transferências para Programas de Educação -  Correntes e de Capital",{"$f":"Projeções!F68","v":0},{"$f":"Projeções!G68","v":0},{"$f":"Projeções!H68","v":0},{"$f":"Projeções!I68","v":0}]
["(+) Transferências do FUNDEB + Complementações do Fundeb ",{"$f":"Projeções!F46+Projeções!F47+Projeções!F72","v":26262028.13541666},{"$f":"Projeções!G46+Projeções!G47+Projeções!G72","v":27195486.553570412},{"$f":"Projeções!H46+Projeções!H47+Projeções!H72","v":26962091.706301853},{"$f":"Projeções!I46+Projeções!I47+Projeções!I72","v":27479644.146463275}]
["(-) Deduções da Receita para o FUNDEB ",{"$f":"Projeções!F117","v":-12839033.079493335},{"$f":"Projeções!G117","v":-13456954.771792177},{"$f":"Projeções!H117","v":-13680526.031012777},{"$f":"Projeções!I117","v":-13666329.936364783}]
["Total de Recursos Estimados para Aplicação em Educação",{"$f":"B12+B14+B15+B16+B17+B18+B19+B20","v":41270599.857523263},{"$f":"C12+C14+C15+C16+C17+C18+C19+C20","v":42866893.861291245},{"$f":"D12+D14+D15+D16+D17+D18+D19+D20","v":43099498.44289875},{"$f":"E12+E14+E15+E16+E17+E18+E19+E20","v":44095858.186764702}]
[]
["Estimativas de Gastos Fixos /  Obrigatórios",{"$f":"B6","v":2026},{"$f":"B23+1","v":2027},{"$f":"C23+1","v":2028},{"$f":"D23+1","v":2029}]
[{"$f":"Projeções!B136","v":"Pessoal e Encargos Sociais - Educação"},{"$f":"Projeções!F136","v":37800238.919429377},{"$f":"Projeções!G136","v":39610383.173570305},{"$f":"Projeções!H136","v":40984696.476885125},{"$f":"Projeções!I136","v":42918243.120910183}]
[{"$f":"Projeções!B143","v":"Juros e Encargos da Dívida - Educação"},{"$f":"Projeções!F143","v":0},{"$f":"Projeções!G143","v":0},{"$f":"Projeções!H143","v":0},{"$f":"Projeções!I143","v":0}]
[{"$f":"Projeções!B150","v":"Outros Benef.Assistênciais - Educação"},{"$f":"Projeções!F150","v":0},{"$f":"Projeções!G150","v":0},{"$f":"Projeções!H150","v":0},{"$f":"Projeções!I150","v":0}]
[{"$f":"Projeções!B157","v":"Auxílio - Alimentação - Educação"},{"$f":"Projeções!F157","v":3023226.5875166669},{"$f":"Projeções!G157","v":3094647.1738057779},{"$f":"Projeções!H157","v":3138391.1087936983},{"$f":"Projeções!I157","v":3202667.6450601858}]
[{"$f":"Projeções!B164","v":"Obrigações Tributárias e Contributivas - Educação"},{"$f":"Projeções!F164","v":1847.8560833333333},{"$f":"Projeções!G164","v":2091.8581088888891},{"$f":"Projeções!H164","v":1363.5350819281111},{"$f":"Projeções!I164","v":1834.9242488560155}]
[{"$f":"Projeções!B171","v":"Sentenças Judiciais - Educação"},{"$f":"Projeções!F171","v":0},{"$f":"Projeções!G171","v":0},{"$f":"Projeções!H171","v":0},{"$f":"Projeções!I171","v":0}]
[{"$f":"Projeções!B178","v":"Indenizações e Restituições - Educação"},{"$f":"Projeções!F178+Projeções!F185","v":0},{"$f":"Projeções!G178+Projeções!G185","v":0},{"$f":"Projeções!H178+Projeções!H185","v":0},{"$f":"Projeções!I178+Projeções!I185","v":0}]
[{"$f":"Projeções!B192","v":"Amortização da Dívida - Educação"},{"$f":"Projeções!F192","v":0},{"$f":"Projeções!G192","v":0},{"$f":"Projeções!H192","v":0},{"$f":"Projeções!I192","v":0}]
["Subtotal - Gastos   Fixos /  Obrigatórios",{"$f":"SUM(B24:B31)","v":40825313.363029376},{"$f":"SUM(C24:C31)","v":42707122.205484971},{"$f":"SUM(D24:D31)","v":44124451.120760754},{"$f":"SUM(E24:E31)","v":46122745.690219231}]
[" Valor passível de alocação para demais diretrizes, objetivos e metas da Educação",{"$f":"B21-B32","v":445286.49449388683},{"$f":"C21-C32","v":159771.65580627322},{"$f":"D21-D32","v":-1024952.6778620034},{"$f":"E21-E32","v":-2026887.5034545287}]

{"sheet":"Saúde","index":6,"n_rows":33,"n_cols":5,"rows_kept":33,"cut":false,"hidden":false,"merged":[[0,0,0,4],[1,0,1,4],[2,0,2,4],[4,1,4,4]]}
[{"$f":"Parâmetros!A7","v":"Município de :  "}]
[{"$f":"Parâmetros!A8","v":"PLANO PLURIANUAL 2026 - 2029"}]
["Tabela 06 – Estimativa de Valores Disponíveis para as Diretrizes, Objetivos e Metas a serem Financiados com Recursos vinculados à Saúde"]
[]
["DISCRIMINAÇÃO"]
["RECEITA",{"$f":"Parâmetros!C10","v":2026},{"$f":"B6+1","v":2027},{"$f":"C6+1","v":2028},{"$f":"D6+1","v":2029}]
["IMPOSTOS PRÓPRIOS",{"$f":"Educação!B7","v":31361198.822867464},{"$f":"Educação!C7","v":33193719.126735218},{"$f":"Educação!D7","v":34697134.548094228},{"$f":"Educação!E7","v":36367341.563891113}]
["TRANSFERÊNCIAS CONSTITUCIONAIS DA UNIÃO ",{"$f":"Educação!B8","v":39460512.763199992},{"$f":"Educação!C8","v":41563892.494931996},{"$f":"Educação!D8","v":42494591.638625316},{"$f":"Educação!E8","v":42408188.934553348}]
["TRANSFERÊNCIAS CONSTITUCIONAIS DO ESTADO ",{"$f":"Educação!B9","v":28416356.500800002},{"$f":"Educação!C9","v":29822690.392072003},{"$f":"Educação!D9","v":30170697.943576481},{"$f":"Educação!E9","v":30059313.244392488}]
[{"$f":"Educação!A10","v":"(-)  Dedução das Receitas de Impostos "},{"$f":"Educação!B10","v":-1076599.7923343666},{"$f":"Educação!C10","v":-970674.56344359869},{"$f":"Educação!D10","v":-749658.23049776966},{"$f":"Educação!E10","v":-1024835.256667637}]
[]
["VALOR MÍNIMO A APLICAR  PARA FINS DO ART. 198 DA CONSTITUIÇÃO (15 %)",{"$f":"(SUM(B7:B11))*0.15","v":14724220.244179962},{"$f":"(SUM(C7:C11))*0.15","v":15541444.117544342},{"$f":"(SUM(D7:D11))*0.15","v":15991914.884969737},{"$f":"(SUM(E7:E11))*0.15","v":16171501.272925396}]
[]
["Rendimentos de Aplicações Financeiras  (Recursos ASPS + Fonte Federal e Estadual)",{"$f":"Projeções!F23","v":674422.6085666666},{"$f":"Projeções!G23","v":742817.27816977771},{"$f":"Projeções!H23","v":720663.22479948343},{"$f":"Projeções!I23","v":739714.47659143107}]
["Transferências de Recursos do SUS - Fundo Nacional de Saúde - Correntes e de Capital",{"$f":"Projeções!F44+Projeções!F87","v":3847698.0524666668},{"$f":"Projeções!G44+Projeções!G87","v":3939343.6047135554},{"$f":"Projeções!H44+Projeções!H87","v":4250873.3311874317},{"$f":"Projeções!I44+Projeções!I87","v":4099415.2578580808}]
["Transferências de Recursos do SUS - Fundo Estadual de Saúde - Correntes e de Capital",{"$f":"Projeções!F60+Projeções!F95","v":475726.30459999997},{"$f":"Projeções!G60+Projeções!G95","v":613849.91483066662},{"$f":"Projeções!H60+Projeções!H95","v":557698.13682864886},{"$f":"Projeções!I60+Projeções!I95","v":559036.24409113009}]
["Transf. De Convenios Federais - Correntes e de Capital",{"$f":"Projeções!F61+Projeções!F90","v":421716.33},{"$f":"Projeções!G61+Projeções!G90","v":346511.36333333334},{"$f":"Projeções!H61+Projeções!H90","v":256075.89777777781},{"$f":"Projeções!I61+Projeções!I90","v":341434.53037037043}]
["Transf. De Convenios Estaduais - Correntes e de Capital",{"$f":"Projeções!F61+Projeções!F96","v":342097.66333333333},{"$f":"Projeções!G61+Projeções!G96","v":240353.14111111112},{"$f":"Projeções!H61+Projeções!H96","v":194150.26814814817},{"$f":"Projeções!I61+Projeções!I96","v":258867.0241975309}]
[]
["Total de Recursos Estimados para Aplicação em Saúde",{"$f":"SUM(B12:B19)","v":20485881.203146629},{"$f":"SUM(C12:C19)","v":21424319.419702783},{"$f":"SUM(D12:D19)","v":21971375.743711226},{"$f":"SUM(E12:E19)","v":22169968.806033935}]
[]
["Estimativas de Gastos Fixos /  Obrigatórios",{"$f":"B6","v":2026},{"$f":"B22+1","v":2027},{"$f":"C22+1","v":2028},{"$f":"D22+1","v":2029}]
[]
[{"$f":"Projeções!B135","v":"Pessoal e Encargos Sociais - Saúde"},{"$f":"Projeções!F135","v":9911709.109217599},{"$f":"Projeções!G135","v":10523115.784668045},{"$f":"Projeções!H135","v":10963457.700922368},{"$f":"Projeções!I135","v":11381861.565646226}]
[{"$f":"Projeções!B142","v":"Juros e Encargos da Dívida - Saúde"},{"$f":"Projeções!F142","v":0},{"$f":"Projeções!G142","v":0},{"$f":"Projeções!H142","v":0},{"$f":"Projeções!I142","v":0}]
[{"$f":"Projeções!B149","v":"Outros Benef.Assistênciais - Saúde"},{"$f":"Projeções!F149","v":0},{"$f":"Projeções!G149","v":0},{"$f":"Projeções!H149","v":0},{"$f":"Projeções!I149","v":0}]
[{"$f":"Projeções!B156","v":"Auxílio - Alimentação - Saúde"},{"$f":"Projeções!F156","v":746759.96779999987},{"$f":"Projeções!G156","v":774562.21710400004},{"$f":"Projeções!H156","v":782643.60819527437},{"$f":"Projeções!I156","v":797172.16441234888}]
[{"$f":"Projeções!B163","v":"Obrigações Tributárias e Contributivas - Saúde"},{"$f":"Projeções!F163","v":62.762699999999995},{"$f":"Projeções!G163","v":21.757736000000001},{"$f":"Projeções!H163","v":29.252522899599999},{"$f":"Projeções!I163","v":39.365443779261597}]
[{"$f":"Projeções!B170","v":"Sentenças Judiciais - Saúde"},{"$f":"Projeções!F170","v":492494.0511333333},{"$f":"Projeções!G170","v":468574.95399288886},{"$f":"Projeções!H170","v":450230.76267418545},{"$f":"Projeções!I170","v":488309.71965894103}]
[{"$f":"Projeções!B177","v":"Indenizações e Restituições - Saúde"},{"$f":"Projeções!F177+Projeções!F184","v":72740.23808333333},{"$f":"Projeções!G177+Projeções!G184","v":77685.420135555571},{"$f":"Projeções!H177+Projeções!H184","v":84609.564309557449},{"$f":"Projeções!I177+Projeções!I184","v":81322.186994842443}]
[{"$f":"Projeções!B191","v":"Amortização da Dívida - Saúde"},{"$f":"Projeções!F191","v":0},{"$f":"Projeções!G191","v":0},{"$f":"Projeções!H191","v":0},{"$f":"Projeções!I191","v":0}]
["Subtotal - Gastos   Fixos /  Obrigatórios",{"$f":"SUM(B24:B31)","v":11223766.128934266},{"$f":"SUM(C24:C31)","v":11843960.13363649},{"$f":"SUM(D24:D31)","v":12280970.888624286},{"$f":"SUM(E24:E31)","v":12748705.002156138}]
[" Valor passível de alocação para demais diretrizes, objetivos e metas da Saúde",{"$f":"B20-B32","v":9262115.074212363},{"$f":"C20-C32","v":9580359.2860662937},{"$f":"D20-D32","v":9690404.8550869394},{"$f":"E20-E32","v":9421263.803877797}]

{"sheet":"Ass.Social","index":7,"n_rows":26,"n_cols":5,"rows_kept":26,"cut":false,"hidden":false,"merged":[[0,0,0,4],[1,0,1,4],[2,0,2,4],[4,1,4,4]]}
[{"$f":"Parâmetros!A7","v":"Município de :  "}]
[{"$f":"Parâmetros!A8","v":"PLANO PLURIANUAL 2026 - 2029"}]
["Tabela 07 – Estimativa de Valores Disponíveis para as Diretrizes, Objetivos e Metas a serem Financiados com Recursos vinculados à Assistência Social"]
[]
["DISCRIMINAÇÃO"]
["RECEITA",{"$f":"Parâmetros!C10","v":2026},{"$f":"B6+1","v":2027},{"$f":"C6+1","v":2028},{"$f":"D6+1","v":2029}]
["Rendimentos de Aplicações Financeiras  (Recursos Próprios +  Fonte Federal e Estadual)",{"$f":"Projeções!F24","v":44204.308133333332},{"$f":"Projeções!G24","v":47676.251352888896},{"$f":"Projeções!H24","v":36714.481638181511},{"$f":"Projeções!I24","v":44493.884229043695}]
["Transferências de Recursos do SUAS - Fundo Nacional de Ass.Social",{"$f":"Projeções!F48+Projeções!F89","v":423480.34006666666},{"$f":"Projeções!G48+Projeções!G89","v":277891.47465622227},{"$f":"Projeções!H48+Projeções!H89","v":284643.18972152518},{"$f":"Projeções!I48+Projeções!I89","v":336190.75152591552}]
["Transferências de Recursos do SUAS - Fundo Estadual de Ass.Social",{"$f":"Projeções!F65","v":0},{"$f":"Projeções!G65","v":0},{"$f":"Projeções!H65","v":0},{"$f":"Projeções!I65","v":0}]
["Transf. De Convenios Federais - Correntes e de Capital",{"$f":"Projeções!F51+Projeções!F92","v":0},{"$f":"Projeções!G51+Projeções!G92","v":0},{"$f":"Projeções!H51+Projeções!H92","v":0},{"$f":"Projeções!I51+Projeções!I92","v":0}]
["Transf. De Convenios Estaduais - Correntes e de Capital",{"$f":"Projeções!F63+Projeções!F98","v":4550.96},{"$f":"Projeções!G63+Projeções!G98","v":6067.9466666666667},{"$f":"Projeções!H63+Projeções!H98","v":3539.6355555555551},{"$f":"Projeções!I63+Projeções!I98","v":4719.5140740740735}]
[" Previsão de Aportes de Recursos Próprios para o FMAS",{"$f":"Projeções!F124","v":1004689.1842166666},{"$f":"Projeções!G124","v":1095154.4462617775},{"$f":"Projeções!H124","v":1107465.8805085896},{"$f":"Projeções!I124","v":1109729.0908015138}]
["Total de Recursos Estimados para Aplicação em Assistência Social",{"$f":"SUM(B7:B12)","v":1476924.7924166666},{"$f":"SUM(C7:C12)","v":1426790.1189375552},{"$f":"SUM(D7:D12)","v":1432363.1874238518},{"$f":"SUM(E7:E12)","v":1495133.2406305471}]
[]
["Estimativas de Gastos Fixos /  Obrigatórios",{"$f":"B6","v":2026},{"$f":"B15+1","v":2027},{"$f":"C15+1","v":2028},{"$f":"D15+1","v":2029}]
[]
[{"$f":"Projeções!B137","v":"Pessoal e Encargos Sociais - Assist. Social"},{"$f":"Projeções!F137","v":545478.6377593081},{"$f":"Projeções!G137","v":626922.18260776252},{"$f":"Projeções!H137","v":724447.3545962132},{"$f":"Projeções!I137","v":687606.50437775324}]
[{"$f":"Projeções!B144","v":"Juros e Encargos da Dívida - Assist. Social"},{"$f":"Projeções!F144","v":0},{"$f":"Projeções!G144","v":0},{"$f":"Projeções!H144","v":0},{"$f":"Projeções!I144","v":0}]
[{"$f":"Projeções!B151","v":"Outros Benef.Assistênciais - Assist. Social"},{"$f":"Projeções!F151","v":0},{"$f":"Projeções!G151","v":0},{"$f":"Projeções!H151","v":0},{"$f":"Projeções!I151","v":0}]
[{"$f":"Projeções!B158","v":"Auxílio - Alimentação - Assist. Social"},{"$f":"Projeções!F158","v":46560.521883333335},{"$f":"Projeções!G158","v":52475.932386222223},{"$f":"Projeções!H158","v":61272.316822693181},{"$f":"Projeções!I158","v":55466.834797918062}]
[{"$f":"Projeções!B165","v":"Obrigações Tributárias e Contributivas - Assist. Social"},{"$f":"Projeções!F165","v":111.46666666666667},{"$f":"Projeções!G165","v":38.641777777777783},{"$f":"Projeções!H165","v":51.952532622222222},{"$f":"Projeções!I165","v":69.913098065066677}]
[{"$f":"Projeções!B172","v":"Sentenças Judiciais - Assist. Social"},{"$f":"Projeções!F172","v":0},{"$f":"Projeções!G172","v":0},{"$f":"Projeções!H172","v":0},{"$f":"Projeções!I172","v":0}]
[{"$f":"Projeções!B179","v":"Indenizações e Restituições - Assist. Social"},{"$f":"Projeções!F179+Projeções!F186","v":0},{"$f":"Projeções!G179+Projeções!G186","v":0},{"$f":"Projeções!H179+Projeções!H186","v":0},{"$f":"Projeções!I179+Projeções!I186","v":0}]
[{"$f":"Projeções!B193","v":"Amortização da Dívida - Assist. Social"},{"$f":"Projeções!F193","v":0},{"$f":"Projeções!G193","v":0},{"$f":"Projeções!H193","v":0},{"$f":"Projeções!I193","v":0}]
["Subtotal - Gastos   Fixos /  Obrigatórios",{"$f":"SUM(B17:B24)","v":592150.62630930811},{"$f":"SUM(C17:C24)","v":679436.75677176251},{"$f":"SUM(D17:D24)","v":785771.62395152869},{"$f":"SUM(E17:E24)","v":743143.25227373641}]
[" Valor passível de alocação para demais diretrizes, objetivos e metas da Assist.  Social",{"$f":"B13-B25","v":884774.16610735853},{"$f":"C13-C25","v":747353.36216579273},{"$f":"D13-D25","v":646591.56347232312},{"$f":"E13-E25","v":751989.98835681065}]

{"sheet":"RPPS","index":8,"n_rows":26,"n_cols":5,"rows_kept":26,"cut":false,"hidden":false,"merged":[[0,0,0,4],[1,0,1,4],[2,0,2,4],[4,1,4,4]]}
[{"$f":"Parâmetros!A7","v":"Município de :  "}]
[{"$f":"Parâmetros!A8","v":"PLANO PLURIANUAL 2026 - 2029"}]
["Tabela 08 – Estimativa de Valores Disponíveis para as Diretrizes, Objetivos e Metas a serem Financiados com Recursos do RPPS"]
[]
["DISCRIMINAÇÃO"]
["RECEITA",{"$f":"Parâmetros!C10","v":2026},{"$f":"B6+1","v":2027},{"$f":"C6+1","v":2028},{"$f":"D6+1","v":2029}]
["Contribuições dos Servidores para o RPPS",{"$f":"Projeções!F14","v":5141655.054336952},{"$f":"Projeções!G14","v":5263249.1881144186},{"$f":"Projeções!H14","v":5705652.1381179616},{"$f":"Projeções!I14","v":5840068.5424590781}]
["Contribuições Patronais",{"$f":"Projeções!F109","v":10829833.743666667},{"$f":"Projeções!G109","v":11339346.371137777},{"$f":"Projeções!H109","v":11693016.227733819},{"$f":"Projeções!I109","v":11716319.93451824}]
["Rendimentos das Aplicações Financeiras",{"$f":"Projeções!F28","v":15801983.495466666},{"$f":"Projeções!G28","v":15345910.373895112},{"$f":"Projeções!H28","v":16571854.24818611},{"$f":"Projeções!I28","v":16511032.84867157}]
["Dedução dos Rendimentos das Aplicações Financeiras (digitar com sinal negativo)",{"$f":"Projeções!F119","v":-1756624.6085666665},{"$f":"Projeções!G119","v":-1815347.8611031109},{"$f":"Projeções!H119","v":-1460790.18127371},{"$f":"Projeções!I119","v":-1741335.877226447}]
["Receita de Compensação Financeira ",{"$f":"Projeções!F80","v":531390.89593333309},{"$f":"Projeções!G80","v":737936.44472355582},{"$f":"Projeções!H80","v":550066.1926013492},{"$f":"Projeções!I80","v":629510.16250735044}]
["Receitas de Capital Arrecadadas pelo RPPS",{"$f":"Projeções!F106","v":0},{"$f":"Projeções!G106","v":0},{"$f":"Projeções!H106","v":0},{"$f":"Projeções!I106","v":0}]
["Total de Recursos Estimados vinculados ao RPPS",{"$f":"SUM(B7:B12)","v":30548238.580836952},{"$f":"SUM(C7:C12)","v":30871094.516767755},{"$f":"SUM(D7:D12)","v":33059798.625365533},{"$f":"SUM(E7:E12)","v":32955595.610929795}]
[]
["Estimativas de Gastos Fixos /  Obrigatórios",{"$f":"B6","v":2026},{"$f":"B15+1","v":2027},{"$f":"C15+1","v":2028},{"$f":"D15+1","v":2029}]
[]
[{"$f":"Projeções!B138","v":"Pessoal e Encargos Sociais - Do RPPS"},{"$f":"Projeções!F138","v":7852961.7051305901},{"$f":"Projeções!G138","v":8427628.2860989831},{"$f":"Projeções!H138","v":8862262.1220325995},{"$f":"Projeções!I138","v":9114271.1788315102}]
[{"$f":"Projeções!B145","v":"Juros e Encargos da Dívida - Do RPPS"},{"$f":"Projeções!F145","v":0},{"$f":"Projeções!G145","v":0},{"$f":"Projeções!H145","v":0},{"$f":"Projeções!I145","v":0}]
[{"$f":"Projeções!B152","v":"Outros Benef.Assistênciais - Do RPPS"},{"$f":"Projeções!F152","v":0},{"$f":"Projeções!G152","v":0},{"$f":"Projeções!H152","v":0},{"$f":"Projeções!I152","v":0}]
[{"$f":"Projeções!B159","v":"Auxílio - Alimentação - Do Rpps"},{"$f":"Projeções!F159","v":0},{"$f":"Projeções!G159","v":0},{"$f":"Projeções!H159","v":0},{"$f":"Projeções!I159","v":0}]
[{"$f":"Projeções!B166","v":"Obrigações Tributárias e Contributivas - do RPPS"},{"$f":"Projeções!F166","v":0},{"$f":"Projeções!G166","v":0},{"$f":"Projeções!H166","v":0},{"$f":"Projeções!I166","v":0}]
[{"$f":"Projeções!B173","v":"Sentenças Judiciais - Do RPPS"},{"$f":"Projeções!F173","v":0},{"$f":"Projeções!G173","v":0},{"$f":"Projeções!H173","v":0},{"$f":"Projeções!I173","v":0}]
[{"$f":"Projeções!B180","v":"Indenizações e Restituições - Do RPPS"},{"$f":"Projeções!F180+Projeções!F187","v":121.91666666666666},{"$f":"Projeções!G180+Projeções!G187","v":163.59777777777776},{"$f":"Projeções!H180+Projeções!H187","v":98.816549222222207},{"$f":"Projeções!I180+Projeções!I187","v":132.97852380866664}]
[{"$f":"Projeções!B194","v":"Amortização da Dívida - Do RPPS"},{"$f":"Projeções!F194","v":0},{"$f":"Projeções!G194","v":0},{"$f":"Projeções!H194","v":0},{"$f":"Projeções!I194","v":0}]
["Subtotal - Gastos   Fixos /  Obrigatórios",{"$f":"SUM(B17:B24)","v":7853083.6217972571},{"$f":"SUM(C17:C24)","v":8427791.8838767614},{"$f":"SUM(D17:D24)","v":8862360.9385818224},{"$f":"SUM(E17:E24)","v":9114404.1573553197}]
[" Valor passível de alocação para demais diretrizes, objetivos e metas do RPPS ou para a Reserva de Contingência.",{"$f":"B13-B25","v":22695154.959039696},{"$f":"C13-C25","v":22443302.632890992},{"$f":"D13-D25","v":24197437.686783709},{"$f":"E13-E25","v":23841191.453574475}]

{"sheet":"Consolidação","index":9,"n_rows":28,"n_cols":5,"rows_kept":28,"cut":false,"hidden":false,"merged":[[0,0,0,4],[1,0,1,4],[2,0,2,4],[4,1,4,4]]}
[{"$f":"Parâmetros!A7","v":"Município de :  "}]
[{"$f":"Parâmetros!A8","v":"PLANO PLURIANUAL 2026 - 2029"}]
["Tabela 09 - Avaliação Global de Valores Disponíveis para as Diretrizes, Objetivos e Metas  do PPA"]
[]
["DISCRIMINAÇÃO"]
["RECEITA",{"$f":"Parâmetros!C10","v":2026},{"$f":"B6+1","v":2027},{"$f":"C6+1","v":2028},{"$f":"D6+1","v":2029}]
["Receitas totais estimadas",{"$f":"Projeções!F121","v":184088405.71167156},{"$f":"Projeções!G121","v":184761773.51457196},{"$f":"Projeções!H121","v":189756897.90808311},{"$f":"Projeções!I121","v":178379347.24999905}]
["(-)  Valores vinculados às Diretrizes, Objetivos e Metas da EDUCAÇÃO",{"$f":"ROUNDDOWN(Educação!B21,-5)","v":41200000},{"$f":"ROUNDDOWN(Educação!C21,-5)","v":42800000},{"$f":"ROUNDDOWN(Educação!D21,-5)","v":43000000},{"$f":"ROUNDDOWN(Educação!E21,-5)","v":44000000}]
["(-)  Valores vinculados às Diretrizes, Objetivos e Metas da SAÚDE",{"$f":"ROUNDDOWN(Saúde!B20,-5)","v":20400000},{"$f":"ROUNDDOWN(Saúde!C20,-5)","v":21400000},{"$f":"ROUNDDOWN(Saúde!D20,-5)","v":21900000},{"$f":"ROUNDDOWN(Saúde!E20,-5)","v":22100000}]
["(-)  Valores vinculados às Diretrizes, Objetivos e Metas da ASSISTÊNCIA SOCIAL",{"$f":"ROUNDDOWN(Ass.Social!B13,-3)","v":1476000},{"$f":"ROUNDDOWN(Ass.Social!C13,-3)","v":1426000},{"$f":"ROUNDDOWN(Ass.Social!D13,-3)","v":1432000},{"$f":"ROUNDDOWN(Ass.Social!E13,-3)","v":1495000}]
["(-)  Valores vinculados às Diretrizes, Objetivos e Metas do RPPS",{"$f":"ROUNDDOWN(RPPS!B13,-5)","v":30500000},{"$f":"ROUNDDOWN(RPPS!C13,-5)","v":30800000},{"$f":"ROUNDDOWN(RPPS!D13,-5)","v":33000000},{"$f":"ROUNDDOWN(RPPS!E13,-5)","v":32900000}]
["(-)  Valores máximo a ser destinado para as Diretrizes, Objetivos e Metas do Poder Legislativo",1100000,1150000,1200000,1250000]
["(-)  Valores vinculados às Diretrizes, Objetivos e Metas da Autarquia",{"$f":"ROUNDDOWN(Projeções!F27+Projeções!F37+Projeções!F78+Projeções!F111,-5)","v":14600000},{"$f":"ROUNDDOWN(Projeções!G27+Projeções!G37+Projeções!G78+Projeções!G111,-5)","v":15100000},{"$f":"ROUNDDOWN(Projeções!H27+Projeções!H37+Projeções!H78+Projeções!H111,-5)","v":15500000},{"$f":"ROUNDDOWN(Projeções!I27+Projeções!I37+Projeções!I78+Projeções!I111,-5)","v":15700000}]
[]
["RECURSOS DISPONÍVEIS PARA AS DEMAIS ÁREAS",{"$f":"B7-B8-B9-B10-B11-B12","v":89412405.711671561},{"$f":"C7-C8-C9-C10-C11-C12","v":87185773.514571965},{"$f":"D7-D8-D9-D10-D11-D12","v":89224897.908083111},{"$f":"E7-E8-E9-E10-E11-E12","v":76634347.249999046}]
[]
["Estimativas de Gastos Fixos /  Obrigatórios - Demais Áreas",{"$f":"B6","v":2026},{"$f":"B17+1","v":2027},{"$f":"C17+1","v":2028},{"$f":"D17+1","v":2029}]
[]
[{"$f":"Projeções!B139","v":"Pessoal e Encargos Sociais - Demais Áreas"},{"$f":"Projeções!F139","v":13276404.123846095},{"$f":"Projeções!G139","v":14252964.693059959},{"$f":"Projeções!H139","v":14693764.983620817},{"$f":"Projeções!I139","v":15305864.654674543}]
[{"$f":"Projeções!B146","v":"Juros e Encargos da Dívida - Demais Áreas"},{"$f":"Projeções!F146","v":0},{"$f":"Projeções!G146","v":0},{"$f":"Projeções!H146","v":0},{"$f":"Projeções!I146","v":0}]
[{"$f":"Projeções!B153","v":"Outros Benef.Assistênciais - Demais Áreas"},{"$f":"Projeções!F153","v":0},{"$f":"Projeções!G153","v":0},{"$f":"Projeções!H153","v":0},{"$f":"Projeções!I153","v":0}]
[{"$f":"Projeções!B160","v":"Auxílio - Alimentação - Demais Áreas"},{"$f":"Projeções!F160","v":905565.05086666683},{"$f":"Projeções!G160","v":942108.09363377793},{"$f":"Projeções!H160","v":963360.05531160394},{"$f":"Projeções!I160","v":972617.48713496886}]
[{"$f":"Projeções!B167","v":"Obrigações Tributárias e Contributivas -Demais Áreas"},{"$f":"Projeções!F167","v":1989726.5826166668},{"$f":"Projeções!G167","v":2127637.138507111},{"$f":"Projeções!H167","v":2265592.6538809394},{"$f":"Projeções!I167","v":2208502.9057516325}]
[{"$f":"Projeções!B174","v":"Sentenças Judiciais - Demais Áreas"},{"$f":"Projeções!F174","v":204032.40788333333},{"$f":"Projeções!G174","v":269507.42619955557},{"$f":"Projeções!H174","v":353901.03657608788},{"$f":"Projeções!I174","v":286294.54124800593}]
[{"$f":"Projeções!B181","v":"Indenizações e Restituições - Demais Áreas"},{"$f":"Projeções!F181+Projeções!F188","v":143543.71844999999},{"$f":"Projeções!G181+Projeções!G188","v":192618.72879599998},{"$f":"Projeções!H181+Projeções!H188","v":120325.97299184058},{"$f":"Projeções!I181+Projeções!I188","v":157944.99340229281}]
[{"$f":"Projeções!B195","v":"Amortização da Dívida - Demais Áreas"},{"$f":"Projeções!F195","v":225000},{"$f":"Projeções!G195","v":187500},{"$f":"Projeções!H195","v":137500},{"$f":"Projeções!I195","v":183333.33333333334}]
["Subtotal - Gastos   Fixos /  Obrigatórios",{"$f":"SUM(B19:B26)","v":16744271.883662762},{"$f":"SUM(C19:C26)","v":17972336.080196407},{"$f":"SUM(D19:D26)","v":18534444.702381287},{"$f":"SUM(E19:E26)","v":19114557.915544774}]
[" Valor passível de alocação para demais diretrizes, objetivos e metas. ",{"$f":"B15-B27","v":72668133.828008801},{"$f":"C15-C27","v":69213437.434375554},{"$f":"D15-D27","v":70690453.205701828},{"$f":"E15-E27","v":57519789.334454268}]